Workbook
Name Compromisso: #N/A
Name fer: [1]Feriados!$B$2:$B$944
Name TaxRateIn: #N/A

Sheet MASTERPLAN

Sheet MANAGEMENT
B2: GRUPO SIRENA — CONSOLIDATED MANAGEMENT VIEW OF THE GRAMADO MASTERPLAN
B3: Annual cash flow of each project, pulled from the tabs by the year header (dates always aligned). Consolidates automatically by stage and by segment according to columns D, E and F. IRR shown = the higher of with and without perpetuity. Values in R$ thousand.
B5: MANAGEMENT ASSUMPTIONS
C6: NPV discount rate (% p.a.) | H6: 0.09
C7: Stages: 1 = 2027–28 (Club Med opening) · 2 = 2029–30 · 3 = 2031–33. Change the segment, stage or inclusion (Y/N) of any project and the consolidated figures adjust.
C8: Land — parcel price (R$ thousand, paid in 2026) | H8: 85000
C9: Land — commission and acquisition costs (R$ thousand, 2026) | H9: 15000
B10: Project | C10: IRR % | D10: Multiple (MOIC) | E10: Peak exposure (R$ thousand) | F10: Segment | G10: Stage | H10: Include (Y/N) | I10: 1st year | J10: 2026 | K10: =J10+1 -> 2027 | L10: =K10+1 -> 2028 | M10: =L10+1 -> 2029 | N10: =M10+1 -> 2030 | O10: =N10+1 -> 2031 | P10: =O10+1 -> 2032 | Q10: =P10+1 -> 2033 | R10: =Q10+1 -> 2034 | ... AC10: =AB10+1 -> 2045 | AD10: Perp. | AE10: Scenario / structure
B11: CASH FLOW BY PROJECT
B12: Land | C12: ="-" -> - | D12: - | E12: =-MIN(0,J12) -> 100000 | F12: Land | G12: 1 | H12: Y | I12: {=IFERROR(INDEX($J$10:$AC$10,MATCH(TRUE,INDEX(J12:AC12<>0,0),0)),"-")} -> 2026 | J12: =-($H$8+$H$9) -> -100000 | K12: 0 | L12: 0 | M12: 0 | N12: 0 | O12: 0 | P12: 0 | Q12: 0 | R12: 0 | S12: 0 | T12: 0 | U12: 0 | V12: 0 | W12: 0 | X12: 0 | Y12: 0 | Z12: 0 | AA12: 0 | AB12: 0 | AC12: 0 | AD12: 0 | AE12: ="R$ "&TEXT($H$8/1000,"0")&" MM land + R$ "&TEXT($H$9/1000,"0")&" MM commission and costs" -> R$ 85 MM terreno + R$ 15 MM comissão e custos
B13: Club Med Gramado | C13: =IF(AND(ISERROR(IRR($J13:$AC13)),ISERROR(IRR($J13:$AD13))),"n/a",MAX(IFERROR(IRR($J13:$AC13),-99),IFERROR(IRR($J13:$AD13),-99))) -> 0.083607277 | D13: =K70 -> 1.6284578 | E13: =H70 -> 222379.02 | F13: Hospitality | G13: 1 | H13: Y | I13: {=IFERROR(INDEX($J$10:$AC$10,MATCH(TRUE,INDEX(J13:AC13<>0,0),0)),"-")} -> 2026 | J13: {=SUMPRODUCT(('CLUB MED'!$G$6:$Z$6=J$10)*'CLUB MED'!$G$112:$Z$112)} -> -84496.68 | K13: {=SUMPRODUCT(('CLUB MED'!$G$6:$Z$6=K$10)*'CLUB MED'!$G$112:$Z$112)} -> -137882.34 | L13: {=SUMPRODUCT(('CLUB MED'!$G$6:$Z$6=L$10)*'CLUB MED'!$G$112:$Z$112)} -> 15400.898 | M13: {=SUMPRODUCT(('CLUB MED'!$G$6:$Z$6=M$10)*'CLUB MED'!$G$112:$Z$112)} -> 5095.6302 | N13: {=SUMPRODUCT(('CLUB MED'!$G$6:$Z$6=N$10)*'CLUB MED'!$G$112:$Z$112)} -> 1340.3614 | O13: {=SUMPRODUCT(('CLUB MED'!$G$6:$Z$6=O$10)*'CLUB MED'!$G$112:$Z$112)} -> 11237.429 | P13: {=SUMPRODUCT(('CLUB MED'!$G$6:$Z$6=P$10)*'CLUB MED'!$G$112:$Z$112)} -> 11952.796 | Q13: {=SUMPRODUCT(('CLUB MED'!$G$6:$Z$6=Q$10)*'CLUB MED'!$G$112:$Z$112)} -> 13920.213 | ... AC13: {=SUMPRODUCT(('CLUB MED'!$G$6:$Z$6=AC$10)*'CLUB MED'!$G$112:$Z$112)} -> 37143.15 | AD13: ='CLUB MED'!AA112 -> 371431.5 | AE13: Levered · with perpetuity
B14: Club Med Villas (26 houses) | C14: =IF(AND(ISERROR(IRR($J14:$AC14)),ISERROR(IRR($J14:$AD14))),"n/a",MAX(IFERROR(IRR($J14:$AC14),-99),IFERROR(IRR($J14:$AD14),-99))) -> 0.9146015 | D14: =K71 -> 3.1606871 | E14: =H71 -> 17488.541 | F14: Real Estate | G14: 1 | H14: Y | I14: {=IFERROR(INDEX($J$10:$AC$10,MATCH(TRUE,INDEX(J14:AC14<>0,0),0)),"-")} -> 2026 | J14: {=SUMPRODUCT((VILLAS!$I$111:$AB$111=J$10)*VILLAS!$I$115:$AB$115)} -> -1200 | K14: {=SUMPRODUCT((VILLAS!$I$111:$AB$111=K$10)*VILLAS!$I$115:$AB$115)} -> -16288.541 | L14: {=SUMPRODUCT((VILLAS!$I$111:$AB$111=L$10)*VILLAS!$I$115:$AB$115)} -> 14055.415 | M14: {=SUMPRODUCT((VILLAS!$I$111:$AB$111=M$10)*VILLAS!$I$115:$AB$115)} -> 41220.39 | N14: {=SUMPRODUCT((VILLAS!$I$111:$AB$111=N$10)*VILLAS!$I$115:$AB$115)} -> 0 | O14: {=SUMPRODUCT((VILLAS!$I$111:$AB$111=O$10)*VILLAS!$I$115:$AB$115)} -> 0 | P14: {=SUMPRODUCT((VILLAS!$I$111:$AB$111=P$10)*VILLAS!$I$115:$AB$115)} -> 0 | Q14: {=SUMPRODUCT((VILLAS!$I$111:$AB$111=Q$10)*VILLAS!$I$115:$AB$115)} -> 0 | ... AC14: {=SUMPRODUCT((VILLAS!$I$111:$AB$111=AC$10)*VILLAS!$I$115:$AB$115)} -> 0 | AD14: =VILLAS!AC115 -> 0 | AE14: =VILLAS!$D$62 -> Sem alavancagem
B15: Mini Mall | C15: =IF(AND(ISERROR(IRR($J15:$AC15)),ISERROR(IRR($J15:$AD15))),"n/a",MAX(IFERROR(IRR($J15:$AC15),-99),IFERROR(IRR($J15:$AD15),-99))) -> 0.18020843 | D15: =K72 -> 1.5862508 | E15: =H72 -> 21767.2 | F15: Income | G15: 1 | H15: Y | I15: {=IFERROR(INDEX($J$10:$AC$10,MATCH(TRUE,INDEX(J15:AC15<>0,0),0)),"-")} -> 2027 | J15: {=SUMPRODUCT(('MINI MALL'!$G$6:$Z$6=J$10)*'MINI MALL'!$G$132:$Z$132)} -> 0 | K15: {=SUMPRODUCT(('MINI MALL'!$G$6:$Z$6=K$10)*'MINI MALL'!$G$132:$Z$132)} -> -21767.2 | L15: {=SUMPRODUCT(('MINI MALL'!$G$6:$Z$6=L$10)*'MINI MALL'!$G$132:$Z$132)} -> 2226.3059 | M15: {=SUMPRODUCT(('MINI MALL'!$G$6:$Z$6=M$10)*'MINI MALL'!$G$132:$Z$132)} -> 2109.9153 | N15: {=SUMPRODUCT(('MINI MALL'!$G$6:$Z$6=N$10)*'MINI MALL'!$G$132:$Z$132)} -> 30192.018 | O15: {=SUMPRODUCT(('MINI MALL'!$G$6:$Z$6=O$10)*'MINI MALL'!$G$132:$Z$132)} -> 0 | P15: {=SUMPRODUCT(('MINI MALL'!$G$6:$Z$6=P$10)*'MINI MALL'!$G$132:$Z$132)} -> 0 | Q15: {=SUMPRODUCT(('MINI MALL'!$G$6:$Z$6=Q$10)*'MINI MALL'!$G$132:$Z$132)} -> 0 | ... AC15: {=SUMPRODUCT(('MINI MALL'!$G$6:$Z$6=AC$10)*'MINI MALL'!$G$132:$Z$132)} -> 0 | AD15: ='MINI MALL'!AA132 -> 0 | AE15: Sale to an investor in 2030 (3 years of operation) · without perpetuity
B16: WDC Weddings | C16: =IF(AND(ISERROR(IRR($J16:$AC16)),ISERROR(IRR($J16:$AD16))),"n/a",MAX(IFERROR(IRR($J16:$AC16),-99),IFERROR(IRR($J16:$AD16),-99))) -> 0.32136766 | D16: =K73 -> 7.5832588 | E16: =H73 -> 16640 | F16: Events | G16: 1 | H16: Y | I16: {=IFERROR(INDEX($J$10:$AC$10,MATCH(TRUE,INDEX(J16:AC16<>0,0),0)),"-")} -> 2027 | J16: {=SUMPRODUCT(('WDC WEDDINGS'!$G$6:$Z$6=J$10)*'WDC WEDDINGS'!$G$36:$Z$36)} -> 0 | K16: {=SUMPRODUCT(('WDC WEDDINGS'!$G$6:$Z$6=K$10)*'WDC WEDDINGS'!$G$36:$Z$36)} -> -16640 | L16: {=SUMPRODUCT(('WDC WEDDINGS'!$G$6:$Z$6=L$10)*'WDC WEDDINGS'!$G$36:$Z$36)} -> 2659.9525 | M16: {=SUMPRODUCT(('WDC WEDDINGS'!$G$6:$Z$6=M$10)*'WDC WEDDINGS'!$G$36:$Z$36)} -> 3978.2646 | N16: {=SUMPRODUCT(('WDC WEDDINGS'!$G$6:$Z$6=N$10)*'WDC WEDDINGS'!$G$36:$Z$36)} -> 4995.8037 | O16: {=SUMPRODUCT(('WDC WEDDINGS'!$G$6:$Z$6=O$10)*'WDC WEDDINGS'!$G$36:$Z$36)} -> 6282.9377 | P16: {=SUMPRODUCT(('WDC WEDDINGS'!$G$6:$Z$6=P$10)*'WDC WEDDINGS'!$G$36:$Z$36)} -> 7733.462 | Q16: {=SUMPRODUCT(('WDC WEDDINGS'!$G$6:$Z$6=Q$10)*'WDC WEDDINGS'!$G$36:$Z$36)} -> 7733.462 | ... AC16: {=SUMPRODUCT(('WDC WEDDINGS'!$G$6:$Z$6=AC$10)*'WDC WEDDINGS'!$G$36:$Z$36)} -> 7733.462 | AD16: ='WDC WEDDINGS'!AA36 -> 77334.62 | AE16: Unlevered · with perpetuity
B17: Ski Gramado — all-season complex | C17: =IF(AND(ISERROR(IRR($J17:$AC17)),ISERROR(IRR($J17:$AD17))),"n/a",MAX(IFERROR(IRR($J17:$AC17),-99),IFERROR(IRR($J17:$AD17),-99))) -> 0.18005339 | D17: =K74 -> 3.2977282 | E17: =H74 -> 133277.71 | F17: Entertainment | G17: 1 | H17: Y | I17: {=IFERROR(INDEX($J$10:$AC$10,MATCH(TRUE,INDEX(J17:AC17<>0,0),0)),"-")} -> 2028 | J17: {=SUMPRODUCT(('SKI GRAMADO'!$G$6:$Z$6=J$10)*'SKI GRAMADO'!$G$132:$Z$132)} -> 0 | K17: {=SUMPRODUCT(('SKI GRAMADO'!$G$6:$Z$6=K$10)*'SKI GRAMADO'!$G$132:$Z$132)} -> 0 | L17: {=SUMPRODUCT(('SKI GRAMADO'!$G$6:$Z$6=L$10)*'SKI GRAMADO'!$G$132:$Z$132)} -> -54400 | M17: {=SUMPRODUCT(('SKI GRAMADO'!$G$6:$Z$6=M$10)*'SKI GRAMADO'!$G$132:$Z$132)} -> -78877.708 | N17: {=SUMPRODUCT(('SKI GRAMADO'!$G$6:$Z$6=N$10)*'SKI GRAMADO'!$G$132:$Z$132)} -> 18012.613 | O17: {=SUMPRODUCT(('SKI GRAMADO'!$G$6:$Z$6=O$10)*'SKI GRAMADO'!$G$132:$Z$132)} -> 19057.609 | P17: {=SUMPRODUCT(('SKI GRAMADO'!$G$6:$Z$6=P$10)*'SKI GRAMADO'!$G$132:$Z$132)} -> 20143.598 | Q17: {=SUMPRODUCT(('SKI GRAMADO'!$G$6:$Z$6=Q$10)*'SKI GRAMADO'!$G$132:$Z$132)} -> 21272.07 | ... AC17: {=SUMPRODUCT(('SKI GRAMADO'!$G$6:$Z$6=AC$10)*'SKI GRAMADO'!$G$132:$Z$132)} -> 38747.34 | AD17: ='SKI GRAMADO'!AA132 -> 387473.4 | AE17: Levered (equity) · with perpetuity
B18: REAL ESTATE — MASTERPLAN PHASES
B19: Phase 01 — Land Lots | C19: =IF(AND(ISERROR(IRR($J19:$AC19)),ISERROR(IRR($J19:$AD19))),"n/a",MAX(IFERROR(IRR($J19:$AC19),-99),IFERROR(IRR($J19:$AD19),-99))) -> 0.50684125 | D19: =K75 -> 2.6486602 | E19: =H75 -> 34671.133 | F19: Real Estate | G19: 1 | H19: Y | I19: {=IFERROR(INDEX($J$10:$AC$10,MATCH(TRUE,INDEX(J19:AC19<>0,0),0)),"-")} -> 2027 | J19: {=SUMPRODUCT(('LAND LOTS'!$I$223:$AB$223=J$10)*'LAND LOTS'!$I$224:$AB$224)} -> 0 | K19: {=SUMPRODUCT(('LAND LOTS'!$I$223:$AB$223=K$10)*'LAND LOTS'!$I$224:$AB$224)} -> -1462.05 | L19: {=SUMPRODUCT(('LAND LOTS'!$I$223:$AB$223=L$10)*'LAND LOTS'!$I$224:$AB$224)} -> -7783.9706 | M19: {=SUMPRODUCT(('LAND LOTS'!$I$223:$AB$223=M$10)*'LAND LOTS'!$I$224:$AB$224)} -> -25425.113 | N19: {=SUMPRODUCT(('LAND LOTS'!$I$223:$AB$223=N$10)*'LAND LOTS'!$I$224:$AB$224)} -> 132.26937 | O19: {=SUMPRODUCT(('LAND LOTS'!$I$223:$AB$223=O$10)*'LAND LOTS'!$I$224:$AB$224)} -> 91699.782 | P19: {=SUMPRODUCT(('LAND LOTS'!$I$223:$AB$223=P$10)*'LAND LOTS'!$I$224:$AB$224)} -> 0 | Q19: {=SUMPRODUCT(('LAND LOTS'!$I$223:$AB$223=Q$10)*'LAND LOTS'!$I$224:$AB$224)} -> 0 | ... AC19: {=SUMPRODUCT(('LAND LOTS'!$I$223:$AB$223=AC$10)*'LAND LOTS'!$I$224:$AB$224)} -> 0 | AD19: ='LAND LOTS'!AC224 -> 0 | AE19: ='LAND LOTS'!$D$14 -> Com alavancagem
B20: Phase 01 — Surf Village | C20: =IF(AND(ISERROR(IRR($J20:$AC20)),ISERROR(IRR($J20:$AD20))),"n/a",MAX(IFERROR(IRR($J20:$AC20),-99),IFERROR(IRR($J20:$AD20),-99))) -> 0.42088158 | D20: =K76 -> 2.3823814 | E20: =H76 -> 43858.156 | F20: Real Estate | G20: 1 | H20: Y | I20: {=IFERROR(INDEX($J$10:$AC$10,MATCH(TRUE,INDEX(J20:AC20<>0,0),0)),"-")} -> 2027 | J20: {=SUMPRODUCT(('VERTICAL APTS'!$I$223:$AB$223=J$10)*'VERTICAL APTS'!$I$224:$AB$224)} -> 0 | K20: {=SUMPRODUCT(('VERTICAL APTS'!$I$223:$AB$223=K$10)*'VERTICAL APTS'!$I$224:$AB$224)} -> -3018.0267 | L20: {=SUMPRODUCT(('VERTICAL APTS'!$I$223:$AB$223=L$10)*'VERTICAL APTS'!$I$224:$AB$224)} -> -4854.9729 | M20: {=SUMPRODUCT(('VERTICAL APTS'!$I$223:$AB$223=M$10)*'VERTICAL APTS'!$I$224:$AB$224)} -> -35985.156 | N20: {=SUMPRODUCT(('VERTICAL APTS'!$I$223:$AB$223=N$10)*'VERTICAL APTS'!$I$224:$AB$224)} -> 17557.637 | O20: {=SUMPRODUCT(('VERTICAL APTS'!$I$223:$AB$223=O$10)*'VERTICAL APTS'!$I$224:$AB$224)} -> 43050.271 | P20: {=SUMPRODUCT(('VERTICAL APTS'!$I$223:$AB$223=P$10)*'VERTICAL APTS'!$I$224:$AB$224)} -> 43878.945 | Q20: {=SUMPRODUCT(('VERTICAL APTS'!$I$223:$AB$223=Q$10)*'VERTICAL APTS'!$I$224:$AB$224)} -> 0 | ... AC20: {=SUMPRODUCT(('VERTICAL APTS'!$I$223:$AB$223=AC$10)*'VERTICAL APTS'!$I$224:$AB$224)} -> 0 | AD20: ='VERTICAL APTS'!AC224 -> 0 | AE20: ='VERTICAL APTS'!$D$14 -> Com alavancagem
B21: Phase 02 — Land Lots | C21: =IF(AND(ISERROR(IRR($J21:$AC21)),ISERROR(IRR($J21:$AD21))),"n/a",MAX(IFERROR(IRR($J21:$AC21),-99),IFERROR(IRR($J21:$AD21),-99))) -> 0.72349056 | D21: =K77 -> 3.6483859 | E21: =H77 -> 69529.344 | F21: Real Estate | G21: 2 | H21: Y | I21: {=IFERROR(INDEX($J$10:$AC$10,MATCH(TRUE,INDEX(J21:AC21<>0,0),0)),"-")} -> 2029 | J21: {=SUMPRODUCT(('LAND LOTS'!$I$223:$AB$223=J$10)*'LAND LOTS'!$I$225:$AB$225)} -> 0 | K21: {=SUMPRODUCT(('LAND LOTS'!$I$223:$AB$223=K$10)*'LAND LOTS'!$I$225:$AB$225)} -> 0 | L21: {=SUMPRODUCT(('LAND LOTS'!$I$223:$AB$223=L$10)*'LAND LOTS'!$I$225:$AB$225)} -> 0 | M21: {=SUMPRODUCT(('LAND LOTS'!$I$223:$AB$223=M$10)*'LAND LOTS'!$I$225:$AB$225)} -> -3667.59 | N21: {=SUMPRODUCT(('LAND LOTS'!$I$223:$AB$223=N$10)*'LAND LOTS'!$I$225:$AB$225)} -> -14525.062 | O21: {=SUMPRODUCT(('LAND LOTS'!$I$223:$AB$223=O$10)*'LAND LOTS'!$I$225:$AB$225)} -> -51336.692 | P21: {=SUMPRODUCT(('LAND LOTS'!$I$223:$AB$223=P$10)*'LAND LOTS'!$I$225:$AB$225)} -> 7661.6685 | Q21: {=SUMPRODUCT(('LAND LOTS'!$I$223:$AB$223=Q$10)*'LAND LOTS'!$I$225:$AB$225)} -> 246008.21 | ... AC21: {=SUMPRODUCT(('LAND LOTS'!$I$223:$AB$223=AC$10)*'LAND LOTS'!$I$225:$AB$225)} -> 0 | AD21: ='LAND LOTS'!AC225 -> 0 | AE21: ='LAND LOTS'!$D$14 -> Com alavancagem
B22: Phase 02 — Surf Village | C22: =IF(AND(ISERROR(IRR($J22:$AC22)),ISERROR(IRR($J22:$AD22))),"n/a",MAX(IFERROR(IRR($J22:$AC22),-99),IFERROR(IRR($J22:$AD22),-99))) -> 0.48222734 | D22: =K78 -> 2.6641291 | E22: =H78 -> 47164.827 | F22: Real Estate | G22: 2 | H22: Y | I22: {=IFERROR(INDEX($J$10:$AC$10,MATCH(TRUE,INDEX(J22:AC22<>0,0),0)),"-")} -> 2029 | J22: {=SUMPRODUCT(('VERTICAL APTS'!$I$223:$AB$223=J$10)*'VERTICAL APTS'!$I$225:$AB$225)} -> 0 | K22: {=SUMPRODUCT(('VERTICAL APTS'!$I$223:$AB$223=K$10)*'VERTICAL APTS'!$I$225:$AB$225)} -> 0 | L22: {=SUMPRODUCT(('VERTICAL APTS'!$I$223:$AB$223=L$10)*'VERTICAL APTS'!$I$225:$AB$225)} -> 0 | M22: {=SUMPRODUCT(('VERTICAL APTS'!$I$223:$AB$223=M$10)*'VERTICAL APTS'!$I$225:$AB$225)} -> -3365.9827 | N22: {=SUMPRODUCT(('VERTICAL APTS'!$I$223:$AB$223=N$10)*'VERTICAL APTS'!$I$225:$AB$225)} -> -4968.2661 | O22: {=SUMPRODUCT(('VERTICAL APTS'!$I$223:$AB$223=O$10)*'VERTICAL APTS'!$I$225:$AB$225)} -> -38830.579 | P22: {=SUMPRODUCT(('VERTICAL APTS'!$I$223:$AB$223=P$10)*'VERTICAL APTS'!$I$225:$AB$225)} -> 20668.403 | Q22: {=SUMPRODUCT(('VERTICAL APTS'!$I$223:$AB$223=Q$10)*'VERTICAL APTS'!$I$225:$AB$225)} -> 50016.019 | ... AC22: {=SUMPRODUCT(('VERTICAL APTS'!$I$223:$AB$223=AC$10)*'VERTICAL APTS'!$I$225:$AB$225)} -> 0 | AD22: ='VERTICAL APTS'!AC225 -> 0 | AE22: ='VERTICAL APTS'!$D$14 -> Com alavancagem
B23: Phase 03 — Land Lots | C23: =IF(AND(ISERROR(IRR($J23:$AC23)),ISERROR(IRR($J23:$AD23))),"n/a",MAX(IFERROR(IRR($J23:$AC23),-99),IFERROR(IRR($J23:$AD23),-99))) -> 0.39985938 | D23: =K79 -> 2.1492051 | E23: =H79 -> 96763.666 | F23: Real Estate | G23: 3 | H23: Y | I23: {=IFERROR(INDEX($J$10:$AC$10,MATCH(TRUE,INDEX(J23:AC23<>0,0),0)),"-")} -> 2031 | J23: {=SUMPRODUCT(('LAND LOTS'!$I$223:$AB$223=J$10)*'LAND LOTS'!$I$226:$AB$226)} -> 0 | K23: {=SUMPRODUCT(('LAND LOTS'!$I$223:$AB$223=K$10)*'LAND LOTS'!$I$226:$AB$226)} -> 0 | L23: {=SUMPRODUCT(('LAND LOTS'!$I$223:$AB$223=L$10)*'LAND LOTS'!$I$226:$AB$226)} -> 0 | M23: {=SUMPRODUCT(('LAND LOTS'!$I$223:$AB$223=M$10)*'LAND LOTS'!$I$226:$AB$226)} -> 0 | N23: {=SUMPRODUCT(('LAND LOTS'!$I$223:$AB$223=N$10)*'LAND LOTS'!$I$226:$AB$226)} -> 0 | O23: {=SUMPRODUCT(('LAND LOTS'!$I$223:$AB$223=O$10)*'LAND LOTS'!$I$226:$AB$226)} -> -3480.891 | P23: {=SUMPRODUCT(('LAND LOTS'!$I$223:$AB$223=P$10)*'LAND LOTS'!$I$226:$AB$226)} -> -18662.038 | Q23: {=SUMPRODUCT(('LAND LOTS'!$I$223:$AB$223=Q$10)*'LAND LOTS'!$I$226:$AB$226)} -> -69578.586 | ... AC23: {=SUMPRODUCT(('LAND LOTS'!$I$223:$AB$223=AC$10)*'LAND LOTS'!$I$226:$AB$226)} -> 0 | AD23: ='LAND LOTS'!AC226 -> 0 | AE23: ='LAND LOTS'!$D$14 -> Com alavancagem
B24: Phase 03 — Surf Village | C24: =IF(AND(ISERROR(IRR($J24:$AC24)),ISERROR(IRR($J24:$AD24))),"n/a",MAX(IFERROR(IRR($J24:$AC24),-99),IFERROR(IRR($J24:$AD24),-99))) -> 0.54377921 | D24: =K80 -> 2.9700166 | E24: =H80 -> 50086.628 | F24: Real Estate | G24: 3 | H24: Y | I24: {=IFERROR(INDEX($J$10:$AC$10,MATCH(TRUE,INDEX(J24:AC24<>0,0),0)),"-")} -> 2031 | J24: {=SUMPRODUCT(('VERTICAL APTS'!$I$223:$AB$223=J$10)*'VERTICAL APTS'!$I$226:$AB$226)} -> 0 | K24: {=SUMPRODUCT(('VERTICAL APTS'!$I$223:$AB$223=K$10)*'VERTICAL APTS'!$I$226:$AB$226)} -> 0 | L24: {=SUMPRODUCT(('VERTICAL APTS'!$I$223:$AB$223=L$10)*'VERTICAL APTS'!$I$226:$AB$226)} -> 0 | M24: {=SUMPRODUCT(('VERTICAL APTS'!$I$223:$AB$223=M$10)*'VERTICAL APTS'!$I$226:$AB$226)} -> 0 | N24: {=SUMPRODUCT(('VERTICAL APTS'!$I$223:$AB$223=N$10)*'VERTICAL APTS'!$I$226:$AB$226)} -> 0 | O24: {=SUMPRODUCT(('VERTICAL APTS'!$I$223:$AB$223=O$10)*'VERTICAL APTS'!$I$226:$AB$226)} -> -3711.9868 | P24: {=SUMPRODUCT(('VERTICAL APTS'!$I$223:$AB$223=P$10)*'VERTICAL APTS'!$I$226:$AB$226)} -> -4983.2 | Q24: {=SUMPRODUCT(('VERTICAL APTS'!$I$223:$AB$223=Q$10)*'VERTICAL APTS'!$I$226:$AB$226)} -> -41391.442 | ... AC24: {=SUMPRODUCT(('VERTICAL APTS'!$I$223:$AB$223=AC$10)*'VERTICAL APTS'!$I$226:$AB$226)} -> 0 | AD24: ='VERTICAL APTS'!AC226 -> 0 | AE24: ='VERTICAL APTS'!$D$14 -> Com alavancagem
B25: INCOME AND EVENTS — STAGE 2
B26: Senior Living | C26: =IF(AND(ISERROR(IRR($J26:$AC26)),ISERROR(IRR($J26:$AD26))),"n/a",MAX(IFERROR(IRR($J26:$AC26),-99),IFERROR(IRR($J26:$AD26),-99))) -> 0.18080179 | D26: =K81 -> 1.2661982 | E26: =H81 -> 30218.01 | F26: Income | G26: 2 | H26: Y | I26: {=IFERROR(INDEX($J$10:$AC$10,MATCH(TRUE,INDEX(J26:AC26<>0,0),0)),"-")} -> 2029 | J26: {=SUMPRODUCT(('SENIOR LIVING'!$G$6:$Z$6=J$10)*'SENIOR LIVING'!$G$89:$Z$89)} -> 0 | K26: {=SUMPRODUCT(('SENIOR LIVING'!$G$6:$Z$6=K$10)*'SENIOR LIVING'!$G$89:$Z$89)} -> 0 | L26: {=SUMPRODUCT(('SENIOR LIVING'!$G$6:$Z$6=L$10)*'SENIOR LIVING'!$G$89:$Z$89)} -> 0 | M26: {=SUMPRODUCT(('SENIOR LIVING'!$G$6:$Z$6=M$10)*'SENIOR LIVING'!$G$89:$Z$89)} -> -12087.204 | N26: {=SUMPRODUCT(('SENIOR LIVING'!$G$6:$Z$6=N$10)*'SENIOR LIVING'!$G$89:$Z$89)} -> -18130.806 | O26: {=SUMPRODUCT(('SENIOR LIVING'!$G$6:$Z$6=O$10)*'SENIOR LIVING'!$G$89:$Z$89)} -> 38261.99 | P26: {=SUMPRODUCT(('SENIOR LIVING'!$G$6:$Z$6=P$10)*'SENIOR LIVING'!$G$89:$Z$89)} -> 0 | Q26: {=SUMPRODUCT(('SENIOR LIVING'!$G$6:$Z$6=Q$10)*'SENIOR LIVING'!$G$89:$Z$89)} -> 0 | ... AC26: {=SUMPRODUCT(('SENIOR LIVING'!$G$6:$Z$6=AC$10)*'SENIOR LIVING'!$G$89:$Z$89)} -> 0 | AD26: ='SENIOR LIVING'!AA89 -> 0 | AE26: ="Structure "&'SENIOR LIVING'!$E$4&" (Senior Living tab)" -> Estrutura 5 (aba Senior Living)
B27: Convention Center | C27: =IF(AND(ISERROR(IRR($J27:$AC27)),ISERROR(IRR($J27:$AD27))),"n/a",MAX(IFERROR(IRR($J27:$AC27),-99),IFERROR(IRR($J27:$AD27),-99))) -> 0.18084388 | D27: =K82 -> 1.2662632 | E27: =H82 -> 24787.5 | F27: Events | G27: 2 | H27: Y | I27: {=IFERROR(INDEX($J$10:$AC$10,MATCH(TRUE,INDEX(J27:AC27<>0,0),0)),"-")} -> 2029 | J27: {=SUMPRODUCT(('CONVENTION CENTER'!$G$6:$Z$6=J$10)*'CONVENTION CENTER'!$G$110:$Z$110)} -> 0 | K27: {=SUMPRODUCT(('CONVENTION CENTER'!$G$6:$Z$6=K$10)*'CONVENTION CENTER'!$G$110:$Z$110)} -> 0 | L27: {=SUMPRODUCT(('CONVENTION CENTER'!$G$6:$Z$6=L$10)*'CONVENTION CENTER'!$G$110:$Z$110)} -> 0 | M27: {=SUMPRODUCT(('CONVENTION CENTER'!$G$6:$Z$6=M$10)*'CONVENTION CENTER'!$G$110:$Z$110)} -> -9915 | N27: {=SUMPRODUCT(('CONVENTION CENTER'!$G$6:$Z$6=N$10)*'CONVENTION CENTER'!$G$110:$Z$110)} -> -14872.5 | O27: {=SUMPRODUCT(('CONVENTION CENTER'!$G$6:$Z$6=O$10)*'CONVENTION CENTER'!$G$110:$Z$110)} -> 31387.5 | P27: {=SUMPRODUCT(('CONVENTION CENTER'!$G$6:$Z$6=P$10)*'CONVENTION CENTER'!$G$110:$Z$110)} -> 0 | Q27: {=SUMPRODUCT(('CONVENTION CENTER'!$G$6:$Z$6=Q$10)*'CONVENTION CENTER'!$G$110:$Z$110)} -> 0 | ... AC27: {=SUMPRODUCT(('CONVENTION CENTER'!$G$6:$Z$6=AC$10)*'CONVENTION CENTER'!$G$110:$Z$110)} -> 0 | AD27: ='CONVENTION CENTER'!AA110 -> 0 | AE27: Grupo Sirena cash flow
B29: CONSOLIDATED BY STAGE
B30: Stage 1 — 2027–28 (Club Med opening) | C30: =IF(AND(ISERROR(IRR($J30:$AC30)),ISERROR(IRR($J30:$AD30))),"n/a",MAX(IFERROR(IRR($J30:$AC30),-99),IFERROR(IRR($J30:$AD30),-99))) -> 0.12084351 | D30: =K83 -> 2.2394829 | E30: =H83 -> 503334.98 | G30: 1 | I30: {=IFERROR(INDEX($J$10:$AC$10,MATCH(TRUE,INDEX(J30:AC30<>0,0),0)),"-")} -> 2026 | J30: =SUMIFS(J$12:J$27,$G$12:$G$27,$G30,$H$12:$H$27,"Y") -> -185696.68 | K30: =SUMIFS(K$12:K$27,$G$12:$G$27,$G30,$H$12:$H$27,"Y") -> -197058.15 | L30: =SUMIFS(L$12:L$27,$G$12:$G$27,$G30,$H$12:$H$27,"Y") -> -32696.371 | M30: =SUMIFS(M$12:M$27,$G$12:$G$27,$G30,$H$12:$H$27,"Y") -> -87883.777 | N30: =SUMIFS(N$12:N$27,$G$12:$G$27,$G30,$H$12:$H$27,"Y") -> 72230.703 | O30: =SUMIFS(O$12:O$27,$G$12:$G$27,$G30,$H$12:$H$27,"Y") -> 171328.03 | P30: =SUMIFS(P$12:P$27,$G$12:$G$27,$G30,$H$12:$H$27,"Y") -> 83708.801 | Q30: =SUMIFS(Q$12:Q$27,$G$12:$G$27,$G30,$H$12:$H$27,"Y") -> 42925.745 | ... AD30: =SUMIFS(AD$12:AD$27,$G$12:$G$27,$G30,$H$12:$H$27,"Y") -> 836239.52
B31: Stage 2 — 2029–30 | C31: =IF(AND(ISERROR(IRR($J31:$AC31)),ISERROR(IRR($J31:$AD31))),"n/a",MAX(IFERROR(IRR($J31:$AC31),-99),IFERROR(IRR($J31:$AD31),-99))) -> 0.50597987 | D31: =K84 -> 3.7170246 | E31: =H84 -> 102050.19 | G31: 2 | I31: {=IFERROR(INDEX($J$10:$AC$10,MATCH(TRUE,INDEX(J31:AC31<>0,0),0)),"-")} -> 2029 | J31: =SUMIFS(J$12:J$27,$G$12:$G$27,$G31,$H$12:$H$27,"Y") -> 0 | K31: =SUMIFS(K$12:K$27,$G$12:$G$27,$G31,$H$12:$H$27,"Y") -> 0 | L31: =SUMIFS(L$12:L$27,$G$12:$G$27,$G31,$H$12:$H$27,"Y") -> 0 | M31: =SUMIFS(M$12:M$27,$G$12:$G$27,$G31,$H$12:$H$27,"Y") -> -29035.777 | N31: =SUMIFS(N$12:N$27,$G$12:$G$27,$G31,$H$12:$H$27,"Y") -> -52496.634 | O31: =SUMIFS(O$12:O$27,$G$12:$G$27,$G31,$H$12:$H$27,"Y") -> -20517.78 | P31: =SUMIFS(P$12:P$27,$G$12:$G$27,$G31,$H$12:$H$27,"Y") -> 28330.071 | Q31: =SUMIFS(Q$12:Q$27,$G$12:$G$27,$G31,$H$12:$H$27,"Y") -> 296024.23 | ... AD31: =SUMIFS(AD$12:AD$27,$G$12:$G$27,$G31,$H$12:$H$27,"Y") -> 0
B32: Stage 3 — 2031–33 | C32: =IF(AND(ISERROR(IRR($J32:$AC32)),ISERROR(IRR($J32:$AD32))),"n/a",MAX(IFERROR(IRR($J32:$AC32),-99),IFERROR(IRR($J32:$AD32),-99))) -> 0.45365916 | D32: =K85 -> 2.4799769 | E32: =H85 -> 141808.14 | G32: 3 | I32: {=IFERROR(INDEX($J$10:$AC$10,MATCH(TRUE,INDEX(J32:AC32<>0,0),0)),"-")} -> 2031 | J32: =SUMIFS(J$12:J$27,$G$12:$G$27,$G32,$H$12:$H$27,"Y") -> 0 | K32: =SUMIFS(K$12:K$27,$G$12:$G$27,$G32,$H$12:$H$27,"Y") -> 0 | L32: =SUMIFS(L$12:L$27,$G$12:$G$27,$G32,$H$12:$H$27,"Y") -> 0 | M32: =SUMIFS(M$12:M$27,$G$12:$G$27,$G32,$H$12:$H$27,"Y") -> 0 | N32: =SUMIFS(N$12:N$27,$G$12:$G$27,$G32,$H$12:$H$27,"Y") -> 0 | O32: =SUMIFS(O$12:O$27,$G$12:$G$27,$G32,$H$12:$H$27,"Y") -> -7192.8778 | P32: =SUMIFS(P$12:P$27,$G$12:$G$27,$G32,$H$12:$H$27,"Y") -> -23645.238 | Q32: =SUMIFS(Q$12:Q$27,$G$12:$G$27,$G32,$H$12:$H$27,"Y") -> -110970.03 | ... AD32: =SUMIFS(AD$12:AD$27,$G$12:$G$27,$G32,$H$12:$H$27,"Y") -> 0
B33: TOTAL GRUPO SIRENA — MASTERPLAN | C33: =IF(AND(ISERROR(IRR($J33:$AC33)),ISERROR(IRR($J33:$AD33))),"n/a",MAX(IFERROR(IRR($J33:$AC33),-99),IFERROR(IRR($J33:$AD33),-99))) -> 0.15869764 | D33: =K86 -> 3.0869305 | E33: =H86 -> 532370.76 | I33: {=IFERROR(INDEX($J$10:$AC$10,MATCH(TRUE,INDEX(J33:AC33<>0,0),0)),"-")} -> 2026 | J33: =SUMIFS(J$12:J$27,$H$12:$H$27,"Y") -> -185696.68 | K33: =SUMIFS(K$12:K$27,$H$12:$H$27,"Y") -> -197058.15 | L33: =SUMIFS(L$12:L$27,$H$12:$H$27,"Y") -> -32696.371 | M33: =SUMIFS(M$12:M$27,$H$12:$H$27,"Y") -> -116919.55 | N33: =SUMIFS(N$12:N$27,$H$12:$H$27,"Y") -> 19734.069 | O33: =SUMIFS(O$12:O$27,$H$12:$H$27,"Y") -> 143617.37 | P33: =SUMIFS(P$12:P$27,$H$12:$H$27,"Y") -> 88393.634 | Q33: =SUMIFS(Q$12:Q$27,$H$12:$H$27,"Y") -> 227979.95 | ... AD33: =SUMIFS(AD$12:AD$27,$H$12:$H$27,"Y") -> 836239.52
B34: Check: sum of stages = total | I34: =IF(ABS(SUM(J30:AD32)-SUM(J33:AD33))<1,"OK","ERROR") -> OK
B36: CONSOLIDATED BY SEGMENT
B37: Hospitality | C37: =IF(AND(ISERROR(IRR($J37:$AC37)),ISERROR(IRR($J37:$AD37))),"n/a",MAX(IFERROR(IRR($J37:$AC37),-99),IFERROR(IRR($J37:$AD37),-99))) -> 0.083607277 | D37: =K87 -> 1.6284578 | E37: =H87 -> 222379.02 | F37: Hospitality | I37: {=IFERROR(INDEX($J$10:$AC$10,MATCH(TRUE,INDEX(J37:AC37<>0,0),0)),"-")} -> 2026 | J37: =SUMIFS(J$12:J$27,$F$12:$F$27,$F37,$H$12:$H$27,"Y") -> -84496.68 | K37: =SUMIFS(K$12:K$27,$F$12:$F$27,$F37,$H$12:$H$27,"Y") -> -137882.34 | L37: =SUMIFS(L$12:L$27,$F$12:$F$27,$F37,$H$12:$H$27,"Y") -> 15400.898 | M37: =SUMIFS(M$12:M$27,$F$12:$F$27,$F37,$H$12:$H$27,"Y") -> 5095.6302 | N37: =SUMIFS(N$12:N$27,$F$12:$F$27,$F37,$H$12:$H$27,"Y") -> 1340.3614 | O37: =SUMIFS(O$12:O$27,$F$12:$F$27,$F37,$H$12:$H$27,"Y") -> 11237.429 | P37: =SUMIFS(P$12:P$27,$F$12:$F$27,$F37,$H$12:$H$27,"Y") -> 11952.796 | Q37: =SUMIFS(Q$12:Q$27,$F$12:$F$27,$F37,$H$12:$H$27,"Y") -> 13920.213 | ... AD37: =SUMIFS(AD$12:AD$27,$F$12:$F$27,$F37,$H$12:$H$27,"Y") -> 371431.5
B38: Entertainment | C38: =IF(AND(ISERROR(IRR($J38:$AC38)),ISERROR(IRR($J38:$AD38))),"n/a",MAX(IFERROR(IRR($J38:$AC38),-99),IFERROR(IRR($J38:$AD38),-99))) -> 0.18005339 | D38: =K88 -> 3.2977282 | E38: =H88 -> 133277.71 | F38: Entertainment | I38: {=IFERROR(INDEX($J$10:$AC$10,MATCH(TRUE,INDEX(J38:AC38<>0,0),0)),"-")} -> 2028 | J38: =SUMIFS(J$12:J$27,$F$12:$F$27,$F38,$H$12:$H$27,"Y") -> 0 | K38: =SUMIFS(K$12:K$27,$F$12:$F$27,$F38,$H$12:$H$27,"Y") -> 0 | L38: =SUMIFS(L$12:L$27,$F$12:$F$27,$F38,$H$12:$H$27,"Y") -> -54400 | M38: =SUMIFS(M$12:M$27,$F$12:$F$27,$F38,$H$12:$H$27,"Y") -> -78877.708 | N38: =SUMIFS(N$12:N$27,$F$12:$F$27,$F38,$H$12:$H$27,"Y") -> 18012.613 | O38: =SUMIFS(O$12:O$27,$F$12:$F$27,$F38,$H$12:$H$27,"Y") -> 19057.609 | P38: =SUMIFS(P$12:P$27,$F$12:$F$27,$F38,$H$12:$H$27,"Y") -> 20143.598 | Q38: =SUMIFS(Q$12:Q$27,$F$12:$F$27,$F38,$H$12:$H$27,"Y") -> 21272.07 | ... AD38: =SUMIFS(AD$12:AD$27,$F$12:$F$27,$F38,$H$12:$H$27,"Y") -> 387473.4
B39: Events | C39: =IF(AND(ISERROR(IRR($J39:$AC39)),ISERROR(IRR($J39:$AD39))),"n/a",MAX(IFERROR(IRR($J39:$AC39),-99),IFERROR(IRR($J39:$AD39),-99))) -> 0.29901095 | D39: =K89 -> 4.5788334 | E39: =H89 -> 29793.479 | F39: Events | I39: {=IFERROR(INDEX($J$10:$AC$10,MATCH(TRUE,INDEX(J39:AC39<>0,0),0)),"-")} -> 2027 | J39: =SUMIFS(J$12:J$27,$F$12:$F$27,$F39,$H$12:$H$27,"Y") -> 0 | K39: =SUMIFS(K$12:K$27,$F$12:$F$27,$F39,$H$12:$H$27,"Y") -> -16640 | L39: =SUMIFS(L$12:L$27,$F$12:$F$27,$F39,$H$12:$H$27,"Y") -> 2659.9525 | M39: =SUMIFS(M$12:M$27,$F$12:$F$27,$F39,$H$12:$H$27,"Y") -> -5936.7354 | N39: =SUMIFS(N$12:N$27,$F$12:$F$27,$F39,$H$12:$H$27,"Y") -> -9876.6963 | O39: =SUMIFS(O$12:O$27,$F$12:$F$27,$F39,$H$12:$H$27,"Y") -> 37670.438 | P39: =SUMIFS(P$12:P$27,$F$12:$F$27,$F39,$H$12:$H$27,"Y") -> 7733.462 | Q39: =SUMIFS(Q$12:Q$27,$F$12:$F$27,$F39,$H$12:$H$27,"Y") -> 7733.462 | ... AD39: =SUMIFS(AD$12:AD$27,$F$12:$F$27,$F39,$H$12:$H$27,"Y") -> 77334.62
B40: Income | C40: =IF(AND(ISERROR(IRR($J40:$AC40)),ISERROR(IRR($J40:$AD40))),"n/a",MAX(IFERROR(IRR($J40:$AC40),-99),IFERROR(IRR($J40:$AD40),-99))) -> 0.18039894 | D40: =K90 -> 1.65539 | E40: =H90 -> 29518.183 | F40: Income | I40: {=IFERROR(INDEX($J$10:$AC$10,MATCH(TRUE,INDEX(J40:AC40<>0,0),0)),"-")} -> 2027 | J40: =SUMIFS(J$12:J$27,$F$12:$F$27,$F40,$H$12:$H$27,"Y") -> 0 | K40: =SUMIFS(K$12:K$27,$F$12:$F$27,$F40,$H$12:$H$27,"Y") -> -21767.2 | L40: =SUMIFS(L$12:L$27,$F$12:$F$27,$F40,$H$12:$H$27,"Y") -> 2226.3059 | M40: =SUMIFS(M$12:M$27,$F$12:$F$27,$F40,$H$12:$H$27,"Y") -> -9977.2886 | N40: =SUMIFS(N$12:N$27,$F$12:$F$27,$F40,$H$12:$H$27,"Y") -> 12061.212 | O40: =SUMIFS(O$12:O$27,$F$12:$F$27,$F40,$H$12:$H$27,"Y") -> 38261.99 | P40: =SUMIFS(P$12:P$27,$F$12:$F$27,$F40,$H$12:$H$27,"Y") -> 0 | Q40: =SUMIFS(Q$12:Q$27,$F$12:$F$27,$F40,$H$12:$H$27,"Y") -> 0 | ... AD40: =SUMIFS(AD$12:AD$27,$F$12:$F$27,$F40,$H$12:$H$27,"Y") -> 0
B41: Real Estate | C41: =IF(AND(ISERROR(IRR($J41:$AC41)),ISERROR(IRR($J41:$AD41))),"n/a",MAX(IFERROR(IRR($J41:$AC41),-99),IFERROR(IRR($J41:$AD41),-99))) -> 0.58547617 | D41: =K91 -> 13.316355 | E41: =H91 -> 49579.019 | F41: Real Estate | I41: {=IFERROR(INDEX($J$10:$AC$10,MATCH(TRUE,INDEX(J41:AC41<>0,0),0)),"-")} -> 2026 | J41: =SUMIFS(J$12:J$27,$F$12:$F$27,$F41,$H$12:$H$27,"Y") -> -1200 | K41: =SUMIFS(K$12:K$27,$F$12:$F$27,$F41,$H$12:$H$27,"Y") -> -20768.617 | L41: =SUMIFS(L$12:L$27,$F$12:$F$27,$F41,$H$12:$H$27,"Y") -> 1416.4717 | M41: =SUMIFS(M$12:M$27,$F$12:$F$27,$F41,$H$12:$H$27,"Y") -> -27223.452 | N41: =SUMIFS(N$12:N$27,$F$12:$F$27,$F41,$H$12:$H$27,"Y") -> -1803.4217 | O41: =SUMIFS(O$12:O$27,$F$12:$F$27,$F41,$H$12:$H$27,"Y") -> 37389.905 | P41: =SUMIFS(P$12:P$27,$F$12:$F$27,$F41,$H$12:$H$27,"Y") -> 48563.778 | Q41: =SUMIFS(Q$12:Q$27,$F$12:$F$27,$F41,$H$12:$H$27,"Y") -> 185054.2 | ... AD41: =SUMIFS(AD$12:AD$27,$F$12:$F$27,$F41,$H$12:$H$27,"Y") -> 0
B42: Check: sum of segments + land = total | I42: =IF(ABS(SUM(J37:AD41)+IF($H$12="Y",SUM(J12:AD12),0)-SUM(J33:AD33))<1,"OK","ERROR") -> OK
B44: CUMULATIVE CASH FLOW (without perpetuity) — basis for cash exposure
B45: =B13 -> Club Med Gramado | J45: =J13 -> -84496.68 | K45: =J45+K13 -> -222379.02 | L45: =K45+L13 -> -206978.12 | M45: =L45+M13 -> -201882.49 | N45: =M45+N13 -> -200542.13 | O45: =N45+O13 -> -189304.7 | P45: =O45+P13 -> -177351.9 | Q45: =P45+Q13 -> -163431.69 | R45: =Q45+R13 -> -148796.11 | ... AC45: =AB45+AC13 -> 139755.83
...

Sheet CLUB MED
B2: GRAMADO PROJECT - CLUB MED
B3: Assumptions, annual Capex, debt, P&L and cash flow — Club Med only (excluding WDC Weddings, Villas and Mini Mall)
B6: Values in R$ thousand | E6: Total / Input | G6: 2026 | H6: =G6+1 -> 2027 | I6: =H6+1 -> 2028 | J6: =I6+1 -> 2029 | K6: =J6+1 -> 2030 | L6: =K6+1 -> 2031 | M6: =L6+1 -> 2032 | N6: =M6+1 -> 2033 | O6: =N6+1 -> 2034 | ... Z6: =Y6+1 -> 2045 | AA6: Perp.
B8: ASSUMPTIONS
C9: Annual fixed rent (R$ thousand) | E9: 31000
C10: Revenue advance (R$ thousand) | E10: 30000
C11: Amount financed (R$ thousand) | E11: 210000
C12: % of Capex leveraged | E12: =E11/E36 -> 0.46584257
C13: Nominal interest rate (% p.a.) | E13: 0.1
C14: IPCA inflation (% p.a.) | E14: 0.0568
C15: Nominal SELIC rate (% p.a.) | E15: 0.105
C16: Initial reserve account contribution (R$ thousand) | E16: 15000
C17: Bank fees - year 1 (R$ thousand) | E17: 10
C18: SG&A + expenses (% of gross revenue) | E18: 0.02
C19: Other expenses (% of gross revenue) | E19: 0
C20: Depreciation period (years) | E20: 18
C21: Operations start year | E21: 2028
C22: Debt amortization start year | E22: 2029
C23: Debt amortization term (years) | E23: 12
C24: Tax regime | E24: Presumed Profit (Lucro Presumido)
C25: NPV discount rate (% p.a.) | E25: =MANAGEMENT!$H$6 -> 0.09
C26: Terminal cap rate (% p.a.) | E26: 0.1
B28: CLUB MED ANNUAL CAPEX
C29: Club Med land (row 329) | E29: =SUM(G29:Z29) -> 0 | G29: {=SUMPRODUCT(($G$318:$AA$318=G$6)*$G$331:$AA$331)} -> 0 | H29: {=SUMPRODUCT(($G$318:$AA$318=H$6)*$G$331:$AA$331)} -> 0 | I29: {=SUMPRODUCT(($G$318:$AA$318=I$6)*$G$331:$AA$331)} -> 0 | J29: {=SUMPRODUCT(($G$318:$AA$318=J$6)*$G$331:$AA$331)} -> 0 | K29: {=SUMPRODUCT(($G$318:$AA$318=K$6)*$G$331:$AA$331)} -> 0 | L29: {=SUMPRODUCT(($G$318:$AA$318=L$6)*$G$331:$AA$331)} -> 0 | M29: {=SUMPRODUCT(($G$318:$AA$318=M$6)*$G$331:$AA$331)} -> 0 | N29: {=SUMPRODUCT(($G$318:$AA$318=N$6)*$G$331:$AA$331)} -> 0 | ... Z29: {=SUMPRODUCT(($G$318:$AA$318=Z$6)*$G$331:$AA$331)} -> 0
C30: Club Med civil works — monthly flow (rows 313+) | E30: =SUM(G30:Z30) -> 319000 | G30: {=SUMPRODUCT(($G$318:$AA$318=G$6)*$G$329:$AA$329)} -> 122001.44 | H30: {=SUMPRODUCT(($G$318:$AA$318=H$6)*$G$329:$AA$329)} -> 196998.56 | I30: {=SUMPRODUCT(($G$318:$AA$318=I$6)*$G$329:$AA$329)} -> 0 | J30: {=SUMPRODUCT(($G$318:$AA$318=J$6)*$G$329:$AA$329)} -> 0 | K30: {=SUMPRODUCT(($G$318:$AA$318=K$6)*$G$329:$AA$329)} -> 0 | L30: {=SUMPRODUCT(($G$318:$AA$318=L$6)*$G$329:$AA$329)} -> 0 | M30: {=SUMPRODUCT(($G$318:$AA$318=M$6)*$G$329:$AA$329)} -> 0 | N30: {=SUMPRODUCT(($G$318:$AA$318=N$6)*$G$329:$AA$329)} -> 0 | ... Z30: {=SUMPRODUCT(($G$318:$AA$318=Z$6)*$G$329:$AA$329)} -> 0
C31: FF&E — monthly FF&E R00 flow (rows 281+; excluding PMH and contingencies) | E31: =SUM(G31:Z31) -> 101536.07 | G31: {=SUMPRODUCT(($G$286:$AA$286=G$6)*$G$299:$AA$299)} -> 2440.1212 | H31: {=SUMPRODUCT(($G$286:$AA$286=H$6)*$G$299:$AA$299)} -> 83394.486 | I31: {=SUMPRODUCT(($G$286:$AA$286=I$6)*$G$299:$AA$299)} -> 15701.46 | J31: {=SUMPRODUCT(($G$286:$AA$286=J$6)*$G$299:$AA$299)} -> 0 | K31: {=SUMPRODUCT(($G$286:$AA$286=K$6)*$G$299:$AA$299)} -> 0 | L31: {=SUMPRODUCT(($G$286:$AA$286=L$6)*$G$299:$AA$299)} -> 0 | M31: {=SUMPRODUCT(($G$286:$AA$286=M$6)*$G$299:$AA$299)} -> 0 | N31: {=SUMPRODUCT(($G$286:$AA$286=N$6)*$G$299:$AA$299)} -> 0 | ... Z31: {=SUMPRODUCT(($G$286:$AA$286=Z$6)*$G$299:$AA$299)} -> 0
C32: Star Ópera development fee (row 328) | E32: =SUM(G32:Z32) -> 12760 | G32: {=SUMPRODUCT(($G$318:$AA$318=G$6)*$G$330:$AA$330)} -> 4880.0576 | H32: {=SUMPRODUCT(($G$318:$AA$318=H$6)*$G$330:$AA$330)} -> 7879.9424 | I32: {=SUMPRODUCT(($G$318:$AA$318=I$6)*$G$330:$AA$330)} -> 0 | J32: {=SUMPRODUCT(($G$318:$AA$318=J$6)*$G$330:$AA$330)} -> 0 | K32: {=SUMPRODUCT(($G$318:$AA$318=K$6)*$G$330:$AA$330)} -> 0 | L32: {=SUMPRODUCT(($G$318:$AA$318=L$6)*$G$330:$AA$330)} -> 0 | M32: {=SUMPRODUCT(($G$318:$AA$318=M$6)*$G$330:$AA$330)} -> 0 | N32: {=SUMPRODUCT(($G$318:$AA$318=N$6)*$G$330:$AA$330)} -> 0 | ... Z32: {=SUMPRODUCT(($G$318:$AA$318=Z$6)*$G$330:$AA$330)} -> 0
C33: Utilities — 8.5 MM in 12 installments from Jan/27 (row 337) | E33: =SUM(G33:Z33) -> 8500 | G33: =$E$339/$G$339*MAX(0,MIN(YEAR($H$339)*12+MONTH($H$339),G$6*12+12)-MAX(YEAR($F$339)*12+MONTH($F$339),G$6*12+1)+1) -> 0 | H33: =$E$339/$G$339*MAX(0,MIN(YEAR($H$339)*12+MONTH($H$339),H$6*12+12)-MAX(YEAR($F$339)*12+MONTH($F$339),H$6*12+1)+1) -> 8500 | I33: =$E$339/$G$339*MAX(0,MIN(YEAR($H$339)*12+MONTH($H$339),I$6*12+12)-MAX(YEAR($F$339)*12+MONTH($F$339),I$6*12+1)+1) -> 0 | J33: =$E$339/$G$339*MAX(0,MIN(YEAR($H$339)*12+MONTH($H$339),J$6*12+12)-MAX(YEAR($F$339)*12+MONTH($F$339),J$6*12+1)+1) -> 0 | K33: =$E$339/$G$339*MAX(0,MIN(YEAR($H$339)*12+MONTH($H$339),K$6*12+12)-MAX(YEAR($F$339)*12+MONTH($F$339),K$6*12+1)+1) -> 0 | L33: =$E$339/$G$339*MAX(0,MIN(YEAR($H$339)*12+MONTH($H$339),L$6*12+12)-MAX(YEAR($F$339)*12+MONTH($F$339),L$6*12+1)+1) -> 0 | M33: =$E$339/$G$339*MAX(0,MIN(YEAR($H$339)*12+MONTH($H$339),M$6*12+12)-MAX(YEAR($F$339)*12+MONTH($F$339),M$6*12+1)+1) -> 0 | N33: =$E$339/$G$339*MAX(0,MIN(YEAR($H$339)*12+MONTH($H$339),N$6*12+12)-MAX(YEAR($F$339)*12+MONTH($F$339),N$6*12+1)+1) -> 0 | ... Z33: =$E$339/$G$339*MAX(0,MIN(YEAR($H$339)*12+MONTH($H$339),Z$6*12+12)-MAX(YEAR($F$339)*12+MONTH($F$339),Z$6*12+1)+1) -> 0
C34: Phase 1 roads (row 338) | E34: =SUM(G34:Z34) -> 7000 | G34: =$E$340/$G$340*MAX(0,MIN(YEAR($H$340)*12+MONTH($H$340),G$6*12+12)-MAX(YEAR($F$340)*12+MONTH($F$340),G$6*12+1)+1) -> 0 | H34: =$E$340/$G$340*MAX(0,MIN(YEAR($H$340)*12+MONTH($H$340),H$6*12+12)-MAX(YEAR($F$340)*12+MONTH($F$340),H$6*12+1)+1) -> 7000 | I34: =$E$340/$G$340*MAX(0,MIN(YEAR($H$340)*12+MONTH($H$340),I$6*12+12)-MAX(YEAR($F$340)*12+MONTH($F$340),I$6*12+1)+1) -> 0 | J34: =$E$340/$G$340*MAX(0,MIN(YEAR($H$340)*12+MONTH($H$340),J$6*12+12)-MAX(YEAR($F$340)*12+MONTH($F$340),J$6*12+1)+1) -> 0 | K34: =$E$340/$G$340*MAX(0,MIN(YEAR($H$340)*12+MONTH($H$340),K$6*12+12)-MAX(YEAR($F$340)*12+MONTH($F$340),K$6*12+1)+1) -> 0 | L34: =$E$340/$G$340*MAX(0,MIN(YEAR($H$340)*12+MONTH($H$340),L$6*12+12)-MAX(YEAR($F$340)*12+MONTH($F$340),L$6*12+1)+1) -> 0 | M34: =$E$340/$G$340*MAX(0,MIN(YEAR($H$340)*12+MONTH($H$340),M$6*12+12)-MAX(YEAR($F$340)*12+MONTH($F$340),M$6*12+1)+1) -> 0 | N34: =$E$340/$G$340*MAX(0,MIN(YEAR($H$340)*12+MONTH($H$340),N$6*12+12)-MAX(YEAR($F$340)*12+MONTH($F$340),N$6*12+1)+1) -> 0 | ... Z34: =$E$340/$G$340*MAX(0,MIN(YEAR($H$340)*12+MONTH($H$340),Z$6*12+12)-MAX(YEAR($F$340)*12+MONTH($F$340),Z$6*12+1)+1) -> 0
C35: AQUA certification — civil works curve (row 323) | E35: =SUM(G35:Z35) -> 2000 | G35: =IF($E$30=0,0,$E$325*G30/$E$30) -> 764.89931 | H35: =IF($E$30=0,0,$E$325*H30/$E$30) -> 1235.1007 | I35: =IF($E$30=0,0,$E$325*I30/$E$30) -> 0 | J35: =IF($E$30=0,0,$E$325*J30/$E$30) -> 0 | K35: =IF($E$30=0,0,$E$325*K30/$E$30) -> 0 | L35: =IF($E$30=0,0,$E$325*L30/$E$30) -> 0 | M35: =IF($E$30=0,0,$E$325*M30/$E$30) -> 0 | N35: =IF($E$30=0,0,$E$325*N30/$E$30) -> 0 | ... Z35: =IF($E$30=0,0,$E$325*Z30/$E$30) -> 0
B36: TOTAL CLUB MED CAPEX | E36: =SUM(G36:Z36) -> 450796.07 | G36: =SUM(G29:G35) -> 130086.52 | H36: =SUM(H29:H35) -> 305008.09 | I36: =SUM(I29:I35) -> 15701.46 | J36: =SUM(J29:J35) -> 0 | K36: =SUM(K29:K35) -> 0 | L36: =SUM(L29:L35) -> 0 | M36: =SUM(M29:M35) -> 0 | N36: =SUM(N29:N35) -> 0 | ... Z36: =SUM(Z29:Z35) -> 0
B38: DEBT
C39: Nominal interest rate (% p.a.) | G39: =$E$13 -> 0.1 | H39: =$E$13 -> 0.1 | I39: =$E$13 -> 0.1 | J39: =$E$13 -> 0.1 | K39: =$E$13 -> 0.1 | L39: =$E$13 -> 0.1 | M39: =$E$13 -> 0.1 | N39: =$E$13 -> 0.1 | ... Z39: =$E$13 -> 0.1
C40: Inflation (% p.a.) | G40: =$E$14 -> 0.0568 | H40: =$E$14 -> 0.0568 | I40: =$E$14 -> 0.0568 | J40: =$E$14 -> 0.0568 | K40: =$E$14 -> 0.0568 | L40: =$E$14 -> 0.0568 | M40: =$E$14 -> 0.0568 | N40: =$E$14 -> 0.0568 | ... Z40: =$E$14 -> 0.0568
C41: Real interest rate (% p.a.) | G41: =(1+G39)/(1+G40)-1 -> 0.040878123 | H41: =(1+H39)/(1+H40)-1 -> 0.040878123 | I41: =(1+I39)/(1+I40)-1 -> 0.040878123 | J41: =(1+J39)/(1+J40)-1 -> 0.040878123 | K41: =(1+K39)/(1+K40)-1 -> 0.040878123 | L41: =(1+L39)/(1+L40)-1 -> 0.040878123 | M41: =(1+M39)/(1+M40)-1 -> 0.040878123 | N41: =(1+N39)/(1+N40)-1 -> 0.040878123 | ... Z41: =(1+Z39)/(1+Z40)-1 -> 0.040878123
C42: Opening balance | G42: 0 | H42: =G47 -> 60599.838 | I42: =H47 -> 202685.59 | J42: =I47 -> 210000 | K42: =J47 -> 192500 | L42: =K47 -> 175000 | M42: =L47 -> 157500 | N42: =M47 -> 140000 | O42: =N47 -> 122500 | ... Z42: =Y47 -> 0
C43: Inflow (drawdown) | G43: =G36*$E$12 -> 60599.838 | H43: =H36*$E$12 -> 142085.75 | I43: =I36*$E$12 -> 7314.4086 | J43: =J36*$E$12 -> 0 | K43: =K36*$E$12 -> 0 | L43: =L36*$E$12 -> 0 | M43: =M36*$E$12 -> 0 | N43: =N36*$E$12 -> 0 | ... Z43: =Z36*$E$12 -> 0
C44: Interest | G44: =G42*G41 -> 0 | H44: =H42*H41 -> 2477.2076 | I44: =I42*I41 -> 8285.4065 | J44: =J42*J41 -> 8584.4058 | K44: =K42*K41 -> 7869.0386 | L44: =L42*L41 -> 7153.6715 | M44: =M42*M41 -> 6438.3043 | N44: =N42*N41 -> 5722.9372 | ... Z44: =Z42*Z41 -> 0
C45: Principal amortization | G45: =IF(G$6>=$E$22,-MIN(G42,SUM($G$43:$Z$43)/$E$23),0) -> 0 | H45: =IF(H$6>=$E$22,-MIN(H42,SUM($G$43:$Z$43)/$E$23),0) -> 0 | I45: =IF(I$6>=$E$22,-MIN(I42,SUM($G$43:$Z$43)/$E$23),0) -> 0 | J45: =IF(J$6>=$E$22,-MIN(J42,SUM($G$43:$Z$43)/$E$23),0) -> -17500 | K45: =IF(K$6>=$E$22,-MIN(K42,SUM($G$43:$Z$43)/$E$23),0) -> -17500 | L45: =IF(L$6>=$E$22,-MIN(L42,SUM($G$43:$Z$43)/$E$23),0) -> -17500 | M45: =IF(M$6>=$E$22,-MIN(M42,SUM($G$43:$Z$43)/$E$23),0) -> -17500 | N45: =IF(N$6>=$E$22,-MIN(N42,SUM($G$43:$Z$43)/$E$23),0) -> -17500 | ... Z45: =IF(Z$6>=$E$22,-MIN(Z42,SUM($G$43:$Z$43)/$E$23),0) -> 0
C46: Interest payment | G46: =-G44 -> 0 | H46: =-H44 -> -2477.2076 | I46: =-I44 -> -8285.4065 | J46: =-J44 -> -8584.4058 | K46: =-K44 -> -7869.0386 | L46: =-L44 -> -7153.6715 | M46: =-M44 -> -6438.3043 | N46: =-N44 -> -5722.9372 | ... Z46: =-Z44 -> 0
...

Sheet WDC WEDDINGS
B2: GRAMADO PROJECT - WDC WEDDINGS
B3: WDC Weddings standalone account: Capex, operations (WDC Gramado business plan — pessimistic/realistic/optimistic scenarios) and cash flow. No leverage and no additional income tax (19.5% taxes already in the business plan costs).
B6: Values in R$ thousand | E6: Total / Input | G6: 2026 | H6: =G6+1 -> 2027 | I6: =H6+1 -> 2028 | J6: =I6+1 -> 2029 | K6: =J6+1 -> 2030 | L6: =K6+1 -> 2031 | M6: =L6+1 -> 2032 | N6: =M6+1 -> 2033 | O6: =N6+1 -> 2034 | ... Z6: =Y6+1 -> 2045 | AA6: Perp.
B8: ASSUMPTIONS
C9: WDC Weddings construction + infrastructure Capex (R$ thousand) — 3,000 m²; breakdown from the WDC business plan | E9: 16000
C10: Star Ópera development fee (%) | E10: 0.04
C11: NPV discount rate (% p.a.) | E11: =MANAGEMENT!$H$6 -> 0.09
C12: Terminal cap rate (% p.a.) | E12: 0.1
C13: Capex disbursement year | E13: 2027
C14: WDC business plan scenario (Pessimistic / Realistic / Optimistic) | E14: Realistic
C15: Operations start year | E15: 2028
C16: Result growth after period 5 (% p.a.) | E16: 0
B17: WDC WEDDINGS ANNUAL CAPEX
C18: WDC Weddings construction + infrastructure | E18: =SUM(G18:Z18) -> 16000 | G18: =IF(G$6=$E$13,$E$9,0) -> 0 | H18: =IF(H$6=$E$13,$E$9,0) -> 16000 | I18: =IF(I$6=$E$13,$E$9,0) -> 0 | J18: =IF(J$6=$E$13,$E$9,0) -> 0 | K18: =IF(K$6=$E$13,$E$9,0) -> 0 | L18: =IF(L$6=$E$13,$E$9,0) -> 0 | M18: =IF(M$6=$E$13,$E$9,0) -> 0 | N18: =IF(N$6=$E$13,$E$9,0) -> 0 | ... Z18: =IF(Z$6=$E$13,$E$9,0) -> 0
C19: Star Ópera development fee | E19: =SUM(G19:Z19) -> 640 | G19: =G18*$E$10 -> 0 | H19: =H18*$E$10 -> 640 | I19: =I18*$E$10 -> 0 | J19: =J18*$E$10 -> 0 | K19: =K18*$E$10 -> 0 | L19: =L18*$E$10 -> 0 | M19: =M18*$E$10 -> 0 | N19: =N18*$E$10 -> 0 | ... Z19: =Z18*$E$10 -> 0
B20: TOTAL WDC WEDDINGS CAPEX | E20: =SUM(G20:Z20) -> 16640 | G20: =G18+G19 -> 0 | H20: =H18+H19 -> 16640 | I20: =I18+I19 -> 0 | J20: =J18+J19 -> 0 | K20: =K18+K19 -> 0 | L20: =L18+L19 -> 0 | M20: =M18+M19 -> 0 | N20: =N18+N19 -> 0 | ... Z20: =Z18+Z19 -> 0
B22: OPERATING RESULT — WDC WEDDINGS
C23: Operating period (year 1, 2, 3...) | G23: =IF(G$6>=$E$15,G$6-$E$15+1,0) -> 0 | H23: =IF(H$6>=$E$15,H$6-$E$15+1,0) -> 0 | I23: =IF(I$6>=$E$15,I$6-$E$15+1,0) -> 1 | J23: =IF(J$6>=$E$15,J$6-$E$15+1,0) -> 2 | K23: =IF(K$6>=$E$15,K$6-$E$15+1,0) -> 3 | L23: =IF(L$6>=$E$15,L$6-$E$15+1,0) -> 4 | M23: =IF(M$6>=$E$15,M$6-$E$15+1,0) -> 5 | N23: =IF(N$6>=$E$15,N$6-$E$15+1,0) -> 6 | ... Z23: =IF(Z$6>=$E$15,Z$6-$E$15+1,0) -> 18
C24: Events held (number) | G24: {=IF(G23=0,0,INDEX($G$79:$K$81,MATCH($E$14,$E$79:$E$81,0),MIN(G23,5)))} -> 0 | H24: {=IF(H23=0,0,INDEX($G$79:$K$81,MATCH($E$14,$E$79:$E$81,0),MIN(H23,5)))} -> 0 | I24: {=IF(I23=0,0,INDEX($G$79:$K$81,MATCH($E$14,$E$79:$E$81,0),MIN(I23,5)))} -> 112 | J24: {=IF(J23=0,0,INDEX($G$79:$K$81,MATCH($E$14,$E$79:$E$81,0),MIN(J23,5)))} -> 142 | K24: {=IF(K23=0,0,INDEX($G$79:$K$81,MATCH($E$14,$E$79:$E$81,0),MIN(K23,5)))} -> 159 | L24: {=IF(L23=0,0,INDEX($G$79:$K$81,MATCH($E$14,$E$79:$E$81,0),MIN(L23,5)))} -> 181 | M24: {=IF(M23=0,0,INDEX($G$79:$K$81,MATCH($E$14,$E$79:$E$81,0),MIN(M23,5)))} -> 202 | N24: {=IF(N23=0,0,INDEX($G$79:$K$81,MATCH($E$14,$E$79:$E$81,0),MIN(N23,5)))} -> 202 | ... Z24: {=IF(Z23=0,0,INDEX($G$79:$K$81,MATCH($E$14,$E$79:$E$81,0),MIN(Z23,5)))} -> 202
C25: Average ticket per event (R$ thousand) | G25: {=IF(G23=0,0,INDEX($G$82:$K$84,MATCH($E$14,$E$79:$E$81,0),MIN(G23,5))/1000*(1+$E$16)^MAX(0,G23-5))} -> 0 | H25: {=IF(H23=0,0,INDEX($G$82:$K$84,MATCH($E$14,$E$79:$E$81,0),MIN(H23,5))/1000*(1+$E$16)^MAX(0,H23-5))} -> 0 | I25: {=IF(I23=0,0,INDEX($G$82:$K$84,MATCH($E$14,$E$79:$E$81,0),MIN(I23,5))/1000*(1+$E$16)^MAX(0,I23-5))} -> 43.81143 | J25: {=IF(J23=0,0,INDEX($G$82:$K$84,MATCH($E$14,$E$79:$E$81,0),MIN(J23,5))/1000*(1+$E$16)^MAX(0,J23-5))} -> 47.27236 | K25: {=IF(K23=0,0,INDEX($G$82:$K$84,MATCH($E$14,$E$79:$E$81,0),MIN(K23,5))/1000*(1+$E$16)^MAX(0,K23-5))} -> 51.06983 | L25: {=IF(L23=0,0,INDEX($G$82:$K$84,MATCH($E$14,$E$79:$E$81,0),MIN(L23,5))/1000*(1+$E$16)^MAX(0,L23-5))} -> 54.85774 | M25: {=IF(M23=0,0,INDEX($G$82:$K$84,MATCH($E$14,$E$79:$E$81,0),MIN(M23,5))/1000*(1+$E$16)^MAX(0,M23-5))} -> 59.3518 | N25: {=IF(N23=0,0,INDEX($G$82:$K$84,MATCH($E$14,$E$79:$E$81,0),MIN(N23,5))/1000*(1+$E$16)^MAX(0,N23-5))} -> 59.3518 | ... Z25: {=IF(Z23=0,0,INDEX($G$82:$K$84,MATCH($E$14,$E$79:$E$81,0),MIN(Z23,5))/1000*(1+$E$16)^MAX(0,Z23-5))} -> 59.3518
C26: Event revenue (venue rental) | G26: =G24*G25 -> 0 | H26: =H24*H25 -> 0 | I26: =I24*I25 -> 4906.8802 | J26: =J24*J25 -> 6712.6751 | K26: =K24*K25 -> 8120.103 | L26: =L24*L25 -> 9929.2509 | M26: =M24*M25 -> 11989.064 | N26: =N24*N25 -> 11989.064 | ... Z26: =Z24*Z25 -> 11989.064
C27: Other revenue (commissions on F&B, decoration, entertainment, staff, concierge) | G27: {=IF(G23=0,0,INDEX($G$85:$K$87,MATCH($E$14,$E$79:$E$81,0),MIN(G23,5))/1000*(1+$E$16)^MAX(0,G23-5))} -> 0 | H27: {=IF(H23=0,0,INDEX($G$85:$K$87,MATCH($E$14,$E$79:$E$81,0),MIN(H23,5))/1000*(1+$E$16)^MAX(0,H23-5))} -> 0 | I27: {=IF(I23=0,0,INDEX($G$85:$K$87,MATCH($E$14,$E$79:$E$81,0),MIN(I23,5))/1000*(1+$E$16)^MAX(0,I23-5))} -> 1341.7541 | J27: {=IF(J23=0,0,INDEX($G$85:$K$87,MATCH($E$14,$E$79:$E$81,0),MIN(J23,5))/1000*(1+$E$16)^MAX(0,J23-5))} -> 1720.0938 | K27: {=IF(K23=0,0,INDEX($G$85:$K$87,MATCH($E$14,$E$79:$E$81,0),MIN(K23,5))/1000*(1+$E$16)^MAX(0,K23-5))} -> 1964.0082 | L27: {=IF(L23=0,0,INDEX($G$85:$K$87,MATCH($E$14,$E$79:$E$81,0),MIN(L23,5))/1000*(1+$E$16)^MAX(0,L23-5))} -> 2228.6734 | M27: {=IF(M23=0,0,INDEX($G$85:$K$87,MATCH($E$14,$E$79:$E$81,0),MIN(M23,5))/1000*(1+$E$16)^MAX(0,M23-5))} -> 2482.2133 | N27: {=IF(N23=0,0,INDEX($G$85:$K$87,MATCH($E$14,$E$79:$E$81,0),MIN(N23,5))/1000*(1+$E$16)^MAX(0,N23-5))} -> 2482.2133 | ... Z27: {=IF(Z23=0,0,INDEX($G$85:$K$87,MATCH($E$14,$E$79:$E$81,0),MIN(Z23,5))/1000*(1+$E$16)^MAX(0,Z23-5))} -> 2482.2133
C28: GROSS REVENUE | G28: =G26+G27 -> 0 | H28: =H26+H27 -> 0 | I28: =I26+I27 -> 6248.6343 | J28: =J26+J27 -> 8432.7689 | K28: =K26+K27 -> 10084.111 | L28: =L26+L27 -> 12157.924 | M28: =M26+M27 -> 14471.277 | N28: =N26+N27 -> 14471.277 | ... Z28: =Z26+Z27 -> 14471.277
C29: (-) Taxes, commissions, operating costs and expenses | G29: {=IF(G23=0,0,INDEX($G$88:$K$90,MATCH($E$14,$E$79:$E$81,0),MIN(G23,5))/1000*(1+$E$16)^MAX(0,G23-5))} -> 0 | H29: {=IF(H23=0,0,INDEX($G$88:$K$90,MATCH($E$14,$E$79:$E$81,0),MIN(H23,5))/1000*(1+$E$16)^MAX(0,H23-5))} -> 0 | I29: {=IF(I23=0,0,INDEX($G$88:$K$90,MATCH($E$14,$E$79:$E$81,0),MIN(I23,5))/1000*(1+$E$16)^MAX(0,I23-5))} -> -3588.6817 | J29: {=IF(J23=0,0,INDEX($G$88:$K$90,MATCH($E$14,$E$79:$E$81,0),MIN(J23,5))/1000*(1+$E$16)^MAX(0,J23-5))} -> -4454.5043 | K29: {=IF(K23=0,0,INDEX($G$88:$K$90,MATCH($E$14,$E$79:$E$81,0),MIN(K23,5))/1000*(1+$E$16)^MAX(0,K23-5))} -> -5088.3075 | L29: {=IF(L23=0,0,INDEX($G$88:$K$90,MATCH($E$14,$E$79:$E$81,0),MIN(L23,5))/1000*(1+$E$16)^MAX(0,L23-5))} -> -5874.9866 | M29: {=IF(M23=0,0,INDEX($G$88:$K$90,MATCH($E$14,$E$79:$E$81,0),MIN(M23,5))/1000*(1+$E$16)^MAX(0,M23-5))} -> -6737.8149 | N29: {=IF(N23=0,0,INDEX($G$88:$K$90,MATCH($E$14,$E$79:$E$81,0),MIN(N23,5))/1000*(1+$E$16)^MAX(0,N23-5))} -> -6737.8149 | ... Z29: {=IF(Z23=0,0,INDEX($G$88:$K$90,MATCH($E$14,$E$79:$E$81,0),MIN(Z23,5))/1000*(1+$E$16)^MAX(0,Z23-5))} -> -6737.8149
C30: Margin (% of gross revenue) | G30: =IFERROR(G31/G28,0) -> 0 | H30: =IFERROR(H31/H28,0) -> 0 | I30: =IFERROR(I31/I28,0) -> 0.42568542 | J30: =IFERROR(J31/J28,0) -> 0.47176256 | K30: =IFERROR(K31/K28,0) -> 0.49541339 | L30: =IFERROR(L31/L28,0) -> 0.51677717 | M30: =IFERROR(M31/M28,0) -> 0.5344008 | N30: =IFERROR(N31/N28,0) -> 0.5344008 | ... Z30: =IFERROR(Z31/Z28,0) -> 0.5344008
C31: DISTRIBUTABLE RESULT (EBITDA) | G31: =G28+G29 -> 0 | H31: =H28+H29 -> 0 | I31: =I28+I29 -> 2659.9525 | J31: =J28+J29 -> 3978.2646 | K31: =K28+K29 -> 4995.8037 | L31: =L28+L29 -> 6282.9377 | M31: =M28+M29 -> 7733.462 | N31: =N28+N29 -> 7733.462 | ... Z31: =Z28+Z29 -> 7733.462
B33: CASH FLOW
C34: Weddings operating result | G34: =G31 -> 0 | H34: =H31 -> 0 | I34: =I31 -> 2659.9525 | J34: =J31 -> 3978.2646 | K34: =K31 -> 4995.8037 | L34: =L31 -> 6282.9377 | M34: =M31 -> 7733.462 | N34: =N31 -> 7733.462 | ... Z34: =Z31 -> 7733.462
C35: (-) Capex | G35: =-G20 -> 0 | H35: =-H20 -> -16640 | I35: =-I20 -> 0 | J35: =-J20 -> 0 | K35: =-K20 -> 0 | L35: =-L20 -> 0 | M35: =-M20 -> 0 | N35: =-N20 -> 0 | ... Z35: =-Z20 -> 0
B36: CASH FLOW FOR THE PERIOD | G36: =G34+G35 -> 0 | H36: =H34+H35 -> -16640 | I36: =I34+I35 -> 2659.9525 | J36: =J34+J35 -> 3978.2646 | K36: =K34+K35 -> 4995.8037 | L36: =L34+L35 -> 6282.9377 | M36: =M34+M35 -> 7733.462 | N36: =N34+N35 -> 7733.462 | ... Z36: =Z34+Z35 -> 7733.462 | AA36: =Z36/$E$12 -> 77334.62
C37: Cumulative cash flow | G37: =G36 -> 0 | H37: =G37+H36 -> -16640 | I37: =H37+I36 -> -13980.047 | J37: =I37+J36 -> -10001.783 | K37: =J37+K36 -> -5005.9792 | L37: =K37+L36 -> 1276.9585 | M37: =L37+M36 -> 9010.4205 | N37: =M37+N36 -> 16743.883 | O37: =N37+O36 -> 24477.345 | ... AA37: =Z37+AA36 -> 186880.05
B39: INVESTOR INDICATORS
C40: Cumulative cash flow (without perpetuity) | G40: =G36 -> 0 | H40: =G40+H36 -> -16640 | I40: =H40+I36 -> -13980.047 | J40: =I40+J36 -> -10001.783 | K40: =J40+K36 -> -5005.9792 | L40: =K40+L36 -> 1276.9585 | M40: =L40+M36 -> 9010.4205 | N40: =M40+N36 -> 16743.883 | O40: =N40+O36 -> 24477.345 | ... Z40: =Y40+Z36 -> 109545.43
C41: Discount factor | G41: =1/(1+$E$11)^(COLUMN(G41)-COLUMN($G$41)) -> 1 | H41: =1/(1+$E$11)^(COLUMN(H41)-COLUMN($G$41)) -> 0.91743119 | I41: =1/(1+$E$11)^(COLUMN(I41)-COLUMN($G$41)) -> 0.84167999 | J41: =1/(1+$E$11)^(COLUMN(J41)-COLUMN($G$41)) -> 0.77218348 | K41: =1/(1+$E$11)^(COLUMN(K41)-COLUMN($G$41)) -> 0.70842521 | L41: =1/(1+$E$11)^(COLUMN(L41)-COLUMN($G$41)) -> 0.64993139 | M41: =1/(1+$E$11)^(COLUMN(M41)-COLUMN($G$41)) -> 0.59626733 | N41: =1/(1+$E$11)^(COLUMN(N41)-COLUMN($G$41)) -> 0.54703424 | ... AA41: =1/(1+$E$11)^(COLUMN(AA41)-COLUMN($G$41)) -> 0.17843089
C42: Discounted cash flow | G42: =G36*G41 -> 0 | H42: =H36*H41 -> -15266.055 | I42: =I36*I41 -> 2238.8288 | J42: =J36*J41 -> 3071.9502 | K42: =K36*K41 -> 3539.1533 | L42: =L36*L41 -> 4083.4784 | M42: =M36*M41 -> 4611.2107 | N42: =N36*N41 -> 4230.4685 | ... AA42: =AA36*AA41 -> 13798.885
C43: Cumulative discounted cash flow (without perpetuity) | G43: =G42 -> 0 | H43: =G43+H42 -> -15266.055 | I43: =H43+I42 -> -13027.226 | J43: =I43+J42 -> -9955.276 | K43: =J43+K42 -> -6416.1227 | L43: =K43+L42 -> -2332.6443 | M43: =L43+M42 -> 2278.5664 | N43: =M43+N42 -> 6509.0349 | O43: =N43+O42 -> 10390.199 | ... Z43: =Y43+Z42 -> 36802.258
B45: Return
C46: IRR with perpetuity (% p.a.) | E46: =IRR($G$36:$AA$36) -> 0.32136766
C47: IRR without perpetuity — cash flow through 2045 (% p.a.) | E47: =IFERROR(IRR($G$36:$Z$36),"n/a") -> 0.3152216
C48: Discount rate (% p.a.) | E48: =$E$11 -> 0.09
...

Sheet VILLAS
B2: CLUB MED GRAMADO VILLAS — 26 HOUSES (REVISED SITE PLAN)
B3: Development of the 26 houses on LH05 (UNYT corner): 3 × 2-bed, 14 × 3-bed, 9 × 4-bed ≈ 5,770 m² usable, 84 bedrooms + 25×12 pool, tennis court and concierge. Same engine as the DEVELOPMENT MODEL; high-end payment plan (fast collection, no bank mortgage transfer).
C5: Month no. | I5: =1 -> 1 | J5: =I5+1 -> 2 | K5: =J5+1 -> 3 | L5: =K5+1 -> 4 | M5: =L5+1 -> 5 | N5: =M5+1 -> 6 | O5: =N5+1 -> 7 | P5: =O5+1 -> 8 | Q5: =P5+1 -> 9 | ... CN5: =CM5+1 -> 84
B6: Values in R$ thousand | D6: Value / % | E6: Start | F6: Months | G6: Base | H6: Total | I6: =$D$10 -> 46023 | J6: =EDATE(I6,1) -> 46054 | K6: =EDATE(J6,1) -> 46082 | L6: =EDATE(K6,1) -> 46113 | M6: =EDATE(L6,1) -> 46143 | N6: =EDATE(M6,1) -> 46174 | O6: =EDATE(N6,1) -> 46204 | P6: =EDATE(O6,1) -> 46235 | Q6: =EDATE(P6,1) -> 46266 | ... CN6: =EDATE(CM6,1) -> 48549
C7: Year | I7: =YEAR(I6) -> 2026 | J7: =YEAR(J6) -> 2026 | K7: =YEAR(K6) -> 2026 | L7: =YEAR(L6) -> 2026 | M7: =YEAR(M6) -> 2026 | N7: =YEAR(N6) -> 2026 | O7: =YEAR(O6) -> 2026 | P7: =YEAR(P6) -> 2026 | ... CN7: =YEAR(CN6) -> 2032
B9: GENERAL ASSUMPTIONS
C10: Model start (1st month) | D10: 46023
C11: Annual price list adjustment (% p.a., from launch) | D11: 0
C12: NPV discount rate (% p.a.) | D12: =MANAGEMENT!$H$6 -> 0.09
C13: Built area — basis for construction cost (m²) = usable area of the houses | D13: =E19 -> 5769
B14: PRODUCT MIX | C14: Unit type | D14: Units | E14: Private area (m²) | F14: Average area (m²) | G14: Price (R$/m²) | H14: Sales value / VGV (R$ thousand)
C15: 2-bed villa (≈157 m²) | D15: 3 | E15: 471 | F15: =IFERROR(E15/D15,0) -> 157 | G15: 27000 | H15: =E15*G15/1000 -> 12717
C16: 3-bed villa (≈210 m²) | D16: 14 | E16: 2940 | F16: =IFERROR(E16/D16,0) -> 210 | G16: 25000 | H16: =E16*G16/1000 -> 73500
C17: 4-bed villa (≈262 m²) | D17: 9 | E17: 2358 | F17: =IFERROR(E17/D17,0) -> 262 | G17: 24000 | H17: =E17*G17/1000 -> 56592
D18: 0 | E18: 0 | F18: =IFERROR(E18/D18,0) -> 0 | G18: 0 | H18: =E18*G18/1000 -> 0
C19: TOTAL / AVERAGE | D19: =SUM(D15:D18) -> 26 | E19: =SUM(E15:E18) -> 5769 | F19: =IFERROR(E19/D19,0) -> 221.88462 | G19: =IFERROR(H19*1000/E19,0) -> 24754.55 | H19: =SUM(H15:H18) -> 142809
B21: CONSTRUCTION
C22: Construction cost (R$/m² built) · start · duration | D22: 13000 | E22: 46388 | F22: 24 | G22: × built area | H22: =D22*D13/1000 -> 74997
C23: Infrastructure / common areas (R$ thousand) — follows the construction curve | D23: 5560 | E23: =E22 -> 46388 | F23: =F22 -> 24 | G23: construction curve | H23: =D23 -> 5560
C24: Construction curve (1 = S-curve; 0 = linear) | D24: 1
C25: Keys / delivery | E25: =EDATE(E22,F22) -> 47119
B27: SALES PACE | D27: % of VGV | E27: Start | F27: Months
C28: Launch | D28: 0.4 | E28: 46447 | F28: 6
C29: During construction (remainder) | D29: =1-D28-D30 -> 0.45 | E29: =MAX(EDATE(E28,F28),E22) -> 46631 | F29: =MAX(0,(YEAR(E25)-YEAR(E29))*12+MONTH(E25)-MONTH(E29)) -> 16
C30: After keys (inventory) | D30: 0.15 | E30: =EDATE(E25,1) -> 47150 | F30: 6
C31: Total sold | D31: =SUM(D28:D30) -> 1
C32: Bank transfer / settlement (month) | E32: =IF(F30>0,EDATE(E30,F30),EDATE(E25,1)) -> 47331
B34: PAYMENT PLAN | D34: % of price
C35: Down payment (in the month of sale) | D35: 0.3 | G35: Sales after keys pay down payment + monthly installments + keys upfront and the bank transfer on the transfer date.
C36: Monthly installments until keys (includes semi-annual) | D36: 0.5
C37: Keys | D37: 0.2
C38: Bank transfer / buyer's mortgage (high-end: no transfer) | D38: 0
C39: Total | D39: =SUM(D35:D38) -> 1
B41: COSTS AND EXPENSES | D41: Value / % | E41: Start | F41: Installments | G41: Base | H41: Total (R$ thousand)
C42: Land — cash payment (R$ thousand) | D42: 0 | E42: =$E$22 -> 46388 | F42: 12 | G42: R$ thousand | H42: =D42 -> 0
C43: ITBI transfer tax (% of land) | D43: 0.03 | E43: =E42 -> 46388 | F43: =F42 -> 12 | G43: % land | H43: =D43*H42 -> 0
C44: Property tax (IPTU) + initial expenses (R$ thousand) | D44: 200 | E44: =$E$22 -> 46388 | F44: 6 | G44: R$ thousand | H44: =D44 -> 200
C45: Development / design cost (R$ thousand) | D45: 1000 | E45: 46113 | F45: 12 | G45: R$ thousand | H45: =D45 -> 1000
C46: Legal (R$ thousand) | D46: 200 | E46: 46113 | F46: 12 | G46: R$ thousand | H46: =D46 -> 200
C47: Approvals (R$ thousand) | D47: 300 | E47: 46113 | F47: 6 | G47: R$ thousand | H47: =D47 -> 300
...

Sheet MINI MALL
B2: GRAMADO PROJECT - MINI MALL
B3: Convenience mini mall between the civic squares (Zone 10.2) — income asset retained by the developer, outside the sales value (VGV). Assumptions: Sirena Gramado Masterplan v5 (Sep/2026)
B6: Values in R$ thousand | E6: Input / Total | G6: 2026 | H6: =G6+1 -> 2027 | I6: =H6+1 -> 2028 | J6: =I6+1 -> 2029 | K6: =J6+1 -> 2030 | L6: =K6+1 -> 2031 | M6: =L6+1 -> 2032 | N6: =M6+1 -> 2033 | O6: =N6+1 -> 2034 | ... Z6: =Y6+1 -> 2045 | AA6: Perp.
B8: ASSUMPTIONS — MINI MALL
C9: Land area (m²) | E9: 3130
C10: Above-ground built area (m²) | E10: 2020
C11: Basement / parking, ~40 spaces (m²) | E11: 1200
C12: Total built area (m²) | E12: =E10+E11 -> 3220
C13: GLA - gross leasable area (m²) | E13: 1750
C14: Average rent (R$/m²/month) — site range R$ 90–140 | E14: 140
C15: Stabilized rental revenue (R$ thousand/year) | E15: =E13*E14*12/1000 -> 2940
C16: Variable rent (% of fixed rent) | E16: 0
C17: Construction cost (R$/m² built) — range R$ 7,000–8,500 | E17: 6500
C18: Land cost (R$ thousand) | E18: 0
C19: Development fee (% of construction) | E19: 0.04
C20: Construction year | E20: 2027
C21: Operations start year | E21: 2028
C22: SG&A + expenses (% of gross revenue) | E22: 0.02
C23: Depreciation period (years) | E23: 18
C24: NPV discount rate (% p.a.) | E24: =MANAGEMENT!$H$6 -> 0.09
C25: Terminal cap rate (% p.a.) | E25: 0.07
C26: Tax regime | E26: Presumed Profit (Lucro Presumido)
C27: Key money — GLA of the smaller shops (m²) — shops 1 to 10 | E27: 691
C28: Key money — months of rent charged | E28: 6
C29: Lease term of the smaller shops (years) | E29: 5
C30: Key money on renewal — % of GLA with a new tenant | E30: 0.5
B32: MINI MALL ANNUAL CAPEX
C33: Land | E33: =SUM(G33:Z33) -> 0 | G33: =IF(G$6=$E$20,$E$18,0) -> 0 | H33: =IF(H$6=$E$20,$E$18,0) -> 0 | I33: =IF(I$6=$E$20,$E$18,0) -> 0 | J33: =IF(J$6=$E$20,$E$18,0) -> 0 | K33: =IF(K$6=$E$20,$E$18,0) -> 0 | L33: =IF(L$6=$E$20,$E$18,0) -> 0 | M33: =IF(M$6=$E$20,$E$18,0) -> 0 | N33: =IF(N$6=$E$20,$E$18,0) -> 0 | ... Z33: =IF(Z$6=$E$20,$E$18,0) -> 0
C34: Construction (total built area × cost/m²) | E34: =SUM(G34:Z34) -> 20930 | G34: =IF(G$6=$E$20,$E$12*$E$17/1000,0) -> 0 | H34: =IF(H$6=$E$20,$E$12*$E$17/1000,0) -> 20930 | I34: =IF(I$6=$E$20,$E$12*$E$17/1000,0) -> 0 | J34: =IF(J$6=$E$20,$E$12*$E$17/1000,0) -> 0 | K34: =IF(K$6=$E$20,$E$12*$E$17/1000,0) -> 0 | L34: =IF(L$6=$E$20,$E$12*$E$17/1000,0) -> 0 | M34: =IF(M$6=$E$20,$E$12*$E$17/1000,0) -> 0 | N34: =IF(N$6=$E$20,$E$12*$E$17/1000,0) -> 0 | ... Z34: =IF(Z$6=$E$20,$E$12*$E$17/1000,0) -> 0
C35: Development fee | E35: =SUM(G35:Z35) -> 837.2 | G35: =G34*$E$19 -> 0 | H35: =H34*$E$19 -> 837.2 | I35: =I34*$E$19 -> 0 | J35: =J34*$E$19 -> 0 | K35: =K34*$E$19 -> 0 | L35: =L34*$E$19 -> 0 | M35: =M34*$E$19 -> 0 | N35: =N34*$E$19 -> 0 | ... Z35: =Z34*$E$19 -> 0
B36: TOTAL MINI MALL CAPEX | E36: =SUM(G36:Z36) -> 21767.2 | G36: =SUM(G33:G35) -> 0 | H36: =SUM(H33:H35) -> 21767.2 | I36: =SUM(I33:I35) -> 0 | J36: =SUM(J33:J35) -> 0 | K36: =SUM(K33:K35) -> 0 | L36: =SUM(L33:L35) -> 0 | M36: =SUM(M33:M35) -> 0 | N36: =SUM(N33:N35) -> 0 | ... Z36: =SUM(Z33:Z35) -> 0
B38: INCOME STATEMENT (P&L)
C39: Lease-up (% of stabilized rent) | G39: 0 | H39: 0 | I39: 0.7 | J39: 0.85 | K39: 1 | L39: 1 | M39: 1 | N39: 1 | O39: 1 | P39: 1 | Q39: 1 | R39: 1 | S39: 1 | T39: 1 | U39: 1 | V39: 1 | W39: 1 | X39: 1 | Y39: 1 | Z39: 1
B40: GROSS REVENUE | G40: =G41+G42+G43 -> 0 | H40: =H41+H42+H43 -> 0 | I40: =I41+I42+I43 -> 2638.44 | J40: =J41+J42+J43 -> 2499 | K40: =K41+K42+K43 -> 2940 | L40: =L41+L42+L43 -> 2940 | M40: =M41+M42+M43 -> 2940 | N40: =N41+N42+N43 -> 3230.22 | ... Z40: =Z41+Z42+Z43 -> 2940
C41: Fixed rent | G41: =IF(G$6>=$E$21,$E$15*G39,0) -> 0 | H41: =IF(H$6>=$E$21,$E$15*H39,0) -> 0 | I41: =IF(I$6>=$E$21,$E$15*I39,0) -> 2058 | J41: =IF(J$6>=$E$21,$E$15*J39,0) -> 2499 | K41: =IF(K$6>=$E$21,$E$15*K39,0) -> 2940 | L41: =IF(L$6>=$E$21,$E$15*L39,0) -> 2940 | M41: =IF(M$6>=$E$21,$E$15*M39,0) -> 2940 | N41: =IF(N$6>=$E$21,$E$15*N39,0) -> 2940 | ... Z41: =IF(Z$6>=$E$21,$E$15*Z39,0) -> 2940
C42: Variable rent | G42: =G41*$E$16 -> 0 | H42: =H41*$E$16 -> 0 | I42: =I41*$E$16 -> 0 | J42: =J41*$E$16 -> 0 | K42: =K41*$E$16 -> 0 | L42: =L41*$E$16 -> 0 | M42: =M41*$E$16 -> 0 | N42: =N41*$E$16 -> 0 | ... Z42: =Z41*$E$16 -> 0
C43: Key money (smaller shops, at opening and at each renewal) | G43: =IF(G$6=$E$21,$E$27*$E$14*$E$28/1000,IF(AND(G$6>$E$21,MOD(G$6-$E$21,$E$29)=0),$E$27*$E$14*$E$28/1000*$E$30,0)) -> 0 | H43: =IF(H$6=$E$21,$E$27*$E$14*$E$28/1000,IF(AND(H$6>$E$21,MOD(H$6-$E$21,$E$29)=0),$E$27*$E$14*$E$28/1000*$E$30,0)) -> 0 | I43: =IF(I$6=$E$21,$E$27*$E$14*$E$28/1000,IF(AND(I$6>$E$21,MOD(I$6-$E$21,$E$29)=0),$E$27*$E$14*$E$28/1000*$E$30,0)) -> 580.44 | J43: =IF(J$6=$E$21,$E$27*$E$14*$E$28/1000,IF(AND(J$6>$E$21,MOD(J$6-$E$21,$E$29)=0),$E$27*$E$14*$E$28/1000*$E$30,0)) -> 0 | K43: =IF(K$6=$E$21,$E$27*$E$14*$E$28/1000,IF(AND(K$6>$E$21,MOD(K$6-$E$21,$E$29)=0),$E$27*$E$14*$E$28/1000*$E$30,0)) -> 0 | L43: =IF(L$6=$E$21,$E$27*$E$14*$E$28/1000,IF(AND(L$6>$E$21,MOD(L$6-$E$21,$E$29)=0),$E$27*$E$14*$E$28/1000*$E$30,0)) -> 0 | M43: =IF(M$6=$E$21,$E$27*$E$14*$E$28/1000,IF(AND(M$6>$E$21,MOD(M$6-$E$21,$E$29)=0),$E$27*$E$14*$E$28/1000*$E$30,0)) -> 0 | N43: =IF(N$6=$E$21,$E$27*$E$14*$E$28/1000,IF(AND(N$6>$E$21,MOD(N$6-$E$21,$E$29)=0),$E$27*$E$14*$E$28/1000*$E$30,0)) -> 290.22 | ... Z43: =IF(Z$6=$E$21,$E$27*$E$14*$E$28/1000,IF(AND(Z$6>$E$21,MOD(Z$6-$E$21,$E$29)=0),$E$27*$E$14*$E$28/1000*$E$30,0)) -> 0
B44: SALES DEDUCTIONS | G44: =G45+G46 -> 0 | H44: =H45+H46 -> 0 | I44: =I45+I46 -> -96.30306 | J44: =J45+J46 -> -91.2135 | K44: =K45+K46 -> -107.31 | L44: =L45+L46 -> -107.31 | M44: =M45+M46 -> -107.31 | N44: =N45+N46 -> -117.90303 | ... Z44: =Z45+Z46 -> -107.31
C45: PIS - 0.65% | G45: =-G40*0.65% -> 0 | H45: =-H40*0.65% -> 0 | I45: =-I40*0.65% -> -17.14986 | J45: =-J40*0.65% -> -16.2435 | K45: =-K40*0.65% -> -19.11 | L45: =-L40*0.65% -> -19.11 | M45: =-M40*0.65% -> -19.11 | N45: =-N40*0.65% -> -20.99643 | ... Z45: =-Z40*0.65% -> -19.11
C46: COFINS - 3.00% | G46: =-G40*3% -> 0 | H46: =-H40*3% -> 0 | I46: =-I40*3% -> -79.1532 | J46: =-J40*3% -> -74.97 | K46: =-K40*3% -> -88.2 | L46: =-L40*3% -> -88.2 | M46: =-M40*3% -> -88.2 | N46: =-N40*3% -> -96.9066 | ... Z46: =-Z40*3% -> -88.2
...

Sheet SKI GRAMADO
AB1: 0.06
B2: GRAMADO PROJECT - SKI GRAMADO (ALL-SEASON COMPLEX) | AB2: 0.06
B3: South America's first all-season ski complex — assumptions from the Sirena Gramado presentation (FERG, Apr/2026), Capex adjusted to R$ 136 MM and visitors +15% vs. baseline. Cash flow with and without debt. | AB3: 0.06
AB4: 0.06
AB5: 0.06
B6: Values in R$ thousand | E6: Input / Total | G6: 2026 | H6: =G6+1 -> 2027 | I6: =H6+1 -> 2028 | J6: =I6+1 -> 2029 | K6: =J6+1 -> 2030 | L6: =K6+1 -> 2031 | M6: =L6+1 -> 2032 | N6: =M6+1 -> 2033 | O6: =N6+1 -> 2034 | ... Z6: =Y6+1 -> 2045 | AA6: Perp. | AB6: 0.06
AB7: 0.06
B8: ASSUMPTIONS | AB8: 0.06
C9: Visitors in the 1st full year of operation (deck baseline) | E9: 193875 | AB9: 0.06
C10: Visitor adjustment vs. deck baseline (%) — scenario | E10: 0.1
C11: Visitor growth (% p.a.) — ramp-up to capacity | E11: 0.0175 | AB11: 0.06
C12: Operating days per year (for reference) | E12: 311 | AB12: 0.06
C13: Peak days at 100% occupancy × visitors/day (for reference) | E13: 1100 | AB13: 0.06
C14: General ticket (R$ per visitor) | E14: 120 | AB14: 0.06
